BEGIN:VCALENDAR
VERSION:2.0
PRODID:-//DFG Hessen e.V. - ECPv6.15.20//NONSGML v1.0//EN
CALSCALE:GREGORIAN
METHOD:PUBLISH
X-WR-CALNAME:DFG Hessen e.V.
X-ORIGINAL-URL:https://www.dfg-hessen.de
X-WR-CALDESC:Veranstaltungen für DFG Hessen e.V.
REFRESH-INTERVAL;VALUE=DURATION:PT1H
X-Robots-Tag:noindex
X-PUBLISHED-TTL:PT1H
BEGIN:VTIMEZONE
TZID:Europe/Berlin
BEGIN:DAYLIGHT
TZOFFSETFROM:+0100
TZOFFSETTO:+0200
TZNAME:CEST
DTSTART:20220327T010000
END:DAYLIGHT
BEGIN:STANDARD
TZOFFSETFROM:+0200
TZOFFSETTO:+0100
TZNAME:CET
DTSTART:20221030T010000
END:STANDARD
BEGIN:DAYLIGHT
TZOFFSETFROM:+0100
TZOFFSETTO:+0200
TZNAME:CEST
DTSTART:20230326T010000
END:DAYLIGHT
BEGIN:STANDARD
TZOFFSETFROM:+0200
TZOFFSETTO:+0100
TZNAME:CET
DTSTART:20231029T010000
END:STANDARD
BEGIN:DAYLIGHT
TZOFFSETFROM:+0100
TZOFFSETTO:+0200
TZNAME:CEST
DTSTART:20240331T010000
END:DAYLIGHT
BEGIN:STANDARD
TZOFFSETFROM:+0200
TZOFFSETTO:+0100
TZNAME:CET
DTSTART:20241027T010000
END:STANDARD
END:VTIMEZONE
BEGIN:VEVENT
DTSTART;TZID=Europe/Berlin:20230907T000000
DTEND;TZID=Europe/Berlin:20230907T000000
DTSTAMP:20260423T131238
CREATED:20230413T150728Z
LAST-MODIFIED:20230413T150728Z
UID:7208-1694044800-1694044800@www.dfg-hessen.de
SUMMARY:Naistentapaaminen Kasselissa
DESCRIPTION:Naisten tapaaminen 7. syyskuuta torstaina Kasselissa. Paikka vielä avoinna. Kokotao tai Grimm Cafe. \n 
URL:https://www.dfg-hessen.de/event/naistentapaaminen-kasselissa-2
CATEGORIES:Stammtisch
END:VEVENT
END:VCALENDAR