BEGIN:VCALENDAR
VERSION:2.0
PRODID:-//DFG Hessen e.V. - ECPv6.15.20//NONSGML v1.0//EN
CALSCALE:GREGORIAN
METHOD:PUBLISH
X-WR-CALNAME:DFG Hessen e.V.
X-ORIGINAL-URL:https://www.dfg-hessen.de
X-WR-CALDESC:Veranstaltungen für DFG Hessen e.V.
REFRESH-INTERVAL;VALUE=DURATION:PT1H
X-Robots-Tag:noindex
X-PUBLISHED-TTL:PT1H
BEGIN:VTIMEZONE
TZID:Europe/Berlin
BEGIN:DAYLIGHT
TZOFFSETFROM:+0100
TZOFFSETTO:+0200
TZNAME:CEST
DTSTART:20220327T010000
END:DAYLIGHT
BEGIN:STANDARD
TZOFFSETFROM:+0200
TZOFFSETTO:+0100
TZNAME:CET
DTSTART:20221030T010000
END:STANDARD
BEGIN:DAYLIGHT
TZOFFSETFROM:+0100
TZOFFSETTO:+0200
TZNAME:CEST
DTSTART:20230326T010000
END:DAYLIGHT
BEGIN:STANDARD
TZOFFSETFROM:+0200
TZOFFSETTO:+0100
TZNAME:CET
DTSTART:20231029T010000
END:STANDARD
BEGIN:DAYLIGHT
TZOFFSETFROM:+0100
TZOFFSETTO:+0200
TZNAME:CEST
DTSTART:20240331T010000
END:DAYLIGHT
BEGIN:STANDARD
TZOFFSETFROM:+0200
TZOFFSETTO:+0100
TZNAME:CET
DTSTART:20241027T010000
END:STANDARD
END:VTIMEZONE
BEGIN:VEVENT
DTSTART;TZID=Europe/Berlin:20230504T153000
DTEND;TZID=Europe/Berlin:20230504T153000
DTSTAMP:20260423T191701
CREATED:20230111T120207Z
LAST-MODIFIED:20230413T150507Z
UID:6907-1683214200-1683214200@www.dfg-hessen.de
SUMMARY:Naistentapaaminen Kasselista
DESCRIPTION:Naisten tapaaminen 4. toukokuuta klo 15.30 Hann-Mündenissa.  \nVoi mennä omalla ajopelillä\, toinen mahdollisuus on mennä junalla Kasselin rautatieasemalta.  \nTarkemmin erikseen sähköpostina sekä WhatsApp-viestinä . Tapaaminen on suomea puhuville naisille. Myös suomalaiset miehet tervetulleita. \n 
URL:https://www.dfg-hessen.de/event/naistentapaaminen-kasselista
CATEGORIES:Stammtisch
END:VEVENT
END:VCALENDAR