BEGIN:VCALENDAR
VERSION:2.0
PRODID:-//DFG Hessen e.V. - ECPv6.15.20//NONSGML v1.0//EN
CALSCALE:GREGORIAN
METHOD:PUBLISH
X-WR-CALNAME:DFG Hessen e.V.
X-ORIGINAL-URL:https://www.dfg-hessen.de
X-WR-CALDESC:Veranstaltungen für DFG Hessen e.V.
REFRESH-INTERVAL;VALUE=DURATION:PT1H
X-Robots-Tag:noindex
X-PUBLISHED-TTL:PT1H
BEGIN:VTIMEZONE
TZID:Europe/Berlin
BEGIN:DAYLIGHT
TZOFFSETFROM:+0100
TZOFFSETTO:+0200
TZNAME:CEST
DTSTART:20220327T010000
END:DAYLIGHT
BEGIN:STANDARD
TZOFFSETFROM:+0200
TZOFFSETTO:+0100
TZNAME:CET
DTSTART:20221030T010000
END:STANDARD
BEGIN:DAYLIGHT
TZOFFSETFROM:+0100
TZOFFSETTO:+0200
TZNAME:CEST
DTSTART:20230326T010000
END:DAYLIGHT
BEGIN:STANDARD
TZOFFSETFROM:+0200
TZOFFSETTO:+0100
TZNAME:CET
DTSTART:20231029T010000
END:STANDARD
BEGIN:DAYLIGHT
TZOFFSETFROM:+0100
TZOFFSETTO:+0200
TZNAME:CEST
DTSTART:20240331T010000
END:DAYLIGHT
BEGIN:STANDARD
TZOFFSETFROM:+0200
TZOFFSETTO:+0100
TZNAME:CET
DTSTART:20241027T010000
END:STANDARD
END:VTIMEZONE
BEGIN:VEVENT
DTSTART;TZID=Europe/Berlin:20230206T190000
DTEND;TZID=Europe/Berlin:20230206T190000
DTSTAMP:20260423T235023
CREATED:20230111T115229Z
LAST-MODIFIED:20230111T115229Z
UID:6900-1675710000-1675710000@www.dfg-hessen.de
SUMMARY:Stammtisch in Kassel
DESCRIPTION:Achtung\, Lokalwechsel! \nDer erste Stammtisch im neuen Jahr findet am Montag\, 6 Februar ab 19 Uhr in Kassel im Restaurant Kokotao\, Wilhelmsstraße 2a. Wir versuchen es mal dort\, weil es wesentlich ruhiger ist.
URL:https://www.dfg-hessen.de/event/stammtisch-in-kassel-11
LOCATION:Restaurant Kokotao\, Wilhelmstr. 2a\, Kassel
CATEGORIES:Stammtisch
END:VEVENT
END:VCALENDAR