BEGIN:VCALENDAR
VERSION:2.0
PRODID:-//DFG Hessen e.V. - ECPv6.15.20//NONSGML v1.0//EN
CALSCALE:GREGORIAN
METHOD:PUBLISH
X-ORIGINAL-URL:https://www.dfg-hessen.de
X-WR-CALDESC:Veranstaltungen für DFG Hessen e.V.
REFRESH-INTERVAL;VALUE=DURATION:PT1H
X-Robots-Tag:noindex
X-PUBLISHED-TTL:PT1H
BEGIN:VTIMEZONE
TZID:Europe/Berlin
BEGIN:DAYLIGHT
TZOFFSETFROM:+0100
TZOFFSETTO:+0200
TZNAME:CEST
DTSTART:20200329T010000
END:DAYLIGHT
BEGIN:STANDARD
TZOFFSETFROM:+0200
TZOFFSETTO:+0100
TZNAME:CET
DTSTART:20201025T010000
END:STANDARD
BEGIN:DAYLIGHT
TZOFFSETFROM:+0100
TZOFFSETTO:+0200
TZNAME:CEST
DTSTART:20210328T010000
END:DAYLIGHT
BEGIN:STANDARD
TZOFFSETFROM:+0200
TZOFFSETTO:+0100
TZNAME:CET
DTSTART:20211031T010000
END:STANDARD
BEGIN:DAYLIGHT
TZOFFSETFROM:+0100
TZOFFSETTO:+0200
TZNAME:CEST
DTSTART:20220327T010000
END:DAYLIGHT
BEGIN:STANDARD
TZOFFSETFROM:+0200
TZOFFSETTO:+0100
TZNAME:CET
DTSTART:20221030T010000
END:STANDARD
END:VTIMEZONE
BEGIN:VEVENT
DTSTART;TZID=Europe/Berlin:20211104T153000
DTEND;TZID=Europe/Berlin:20211104T153000
DTSTAMP:20260424T235813
CREATED:20211007T181840Z
LAST-MODIFIED:20211007T181840Z
UID:5875-1636039800-1636039800@www.dfg-hessen.de
SUMMARY:Naisten tapaaminen Kasselissa
DESCRIPTION:Naisten tapaaminen 4. marraskuuta torstaina Kasselissa Grimmweltin Falada-kahvilassa\, Weinbergstr. 21 klo 15.30. Kokeilemme tätä kahvilaa näin Corona-aikana. Tapaaminen on suomea puhuville naisille. Myös suomalaiset miehet tervetulleita. \n 
URL:https://www.dfg-hessen.de/event/naisten-tapaaminen-kasselissa-9
LOCATION:Grimmwelt Café Falada\, Weinbergstr. 21\, Kassel
CATEGORIES:Stammtisch
END:VEVENT
END:VCALENDAR