BEGIN:VCALENDAR
VERSION:2.0
PRODID:-//DFG Hessen e.V. - ECPv6.15.20//NONSGML v1.0//EN
CALSCALE:GREGORIAN
METHOD:PUBLISH
X-WR-CALNAME:DFG Hessen e.V.
X-ORIGINAL-URL:https://www.dfg-hessen.de
X-WR-CALDESC:Veranstaltungen für DFG Hessen e.V.
REFRESH-INTERVAL;VALUE=DURATION:PT1H
X-Robots-Tag:noindex
X-PUBLISHED-TTL:PT1H
BEGIN:VTIMEZONE
TZID:Europe/Berlin
BEGIN:DAYLIGHT
TZOFFSETFROM:+0100
TZOFFSETTO:+0200
TZNAME:CEST
DTSTART:20200329T010000
END:DAYLIGHT
BEGIN:STANDARD
TZOFFSETFROM:+0200
TZOFFSETTO:+0100
TZNAME:CET
DTSTART:20201025T010000
END:STANDARD
BEGIN:DAYLIGHT
TZOFFSETFROM:+0100
TZOFFSETTO:+0200
TZNAME:CEST
DTSTART:20210328T010000
END:DAYLIGHT
BEGIN:STANDARD
TZOFFSETFROM:+0200
TZOFFSETTO:+0100
TZNAME:CET
DTSTART:20211031T010000
END:STANDARD
BEGIN:DAYLIGHT
TZOFFSETFROM:+0100
TZOFFSETTO:+0200
TZNAME:CEST
DTSTART:20220327T010000
END:DAYLIGHT
BEGIN:STANDARD
TZOFFSETFROM:+0200
TZOFFSETTO:+0100
TZNAME:CET
DTSTART:20221030T010000
END:STANDARD
END:VTIMEZONE
BEGIN:VEVENT
DTSTART;TZID=Europe/Berlin:20211011T190000
DTEND;TZID=Europe/Berlin:20211011T190000
DTSTAMP:20260425T012119
CREATED:20211007T181517Z
LAST-MODIFIED:20211007T181517Z
UID:5873-1633978800-1633978800@www.dfg-hessen.de
SUMMARY:Stammtisch in Kassel
DESCRIPTION:Den ersten Stammtisch “nach der Corona-Zeit” wollen wir am Montag\, 11. Oktober ab 19 Uhr in der Gaststätte Lohmann in Kassel\, Königstor 8\, gegenüber den Städtischen Werken abhalten. Die Gaststätte dürfte den meisten von früher her bekannt sein. Es ist nicht der erste Montag im Monat sondern der zweite\, da erstens dann Ferien sind und Ulla und ich auch pünktlich kommen können und zweitens die Bundeshauptversammlung der DFG vorher war und ich darüber berichten kann. In der Gaststätte gelten im Moment die 3G-Regeln. \n 
URL:https://www.dfg-hessen.de/event/stammtisch-in-kassel-8
LOCATION:Gaststätte Lohmann\, Königstor 8\, Kassel
CATEGORIES:Stammtisch
END:VEVENT
END:VCALENDAR