BEGIN:VCALENDAR
VERSION:2.0
PRODID:-//DFG Hessen e.V. - ECPv6.15.20//NONSGML v1.0//EN
CALSCALE:GREGORIAN
METHOD:PUBLISH
X-ORIGINAL-URL:https://www.dfg-hessen.de
X-WR-CALDESC:Veranstaltungen für DFG Hessen e.V.
REFRESH-INTERVAL;VALUE=DURATION:PT1H
X-Robots-Tag:noindex
X-PUBLISHED-TTL:PT1H
BEGIN:VTIMEZONE
TZID:Europe/Berlin
BEGIN:DAYLIGHT
TZOFFSETFROM:+0100
TZOFFSETTO:+0200
TZNAME:CEST
DTSTART:20170326T010000
END:DAYLIGHT
BEGIN:STANDARD
TZOFFSETFROM:+0200
TZOFFSETTO:+0100
TZNAME:CET
DTSTART:20171029T010000
END:STANDARD
BEGIN:DAYLIGHT
TZOFFSETFROM:+0100
TZOFFSETTO:+0200
TZNAME:CEST
DTSTART:20180325T010000
END:DAYLIGHT
BEGIN:STANDARD
TZOFFSETFROM:+0200
TZOFFSETTO:+0100
TZNAME:CET
DTSTART:20181028T010000
END:STANDARD
BEGIN:DAYLIGHT
TZOFFSETFROM:+0100
TZOFFSETTO:+0200
TZNAME:CEST
DTSTART:20190331T010000
END:DAYLIGHT
BEGIN:STANDARD
TZOFFSETFROM:+0200
TZOFFSETTO:+0100
TZNAME:CET
DTSTART:20191027T010000
END:STANDARD
BEGIN:DAYLIGHT
TZOFFSETFROM:+0100
TZOFFSETTO:+0200
TZNAME:CEST
DTSTART:20200329T010000
END:DAYLIGHT
BEGIN:STANDARD
TZOFFSETFROM:+0200
TZOFFSETTO:+0100
TZNAME:CET
DTSTART:20201025T010000
END:STANDARD
BEGIN:DAYLIGHT
TZOFFSETFROM:+0100
TZOFFSETTO:+0200
TZNAME:CEST
DTSTART:20210328T010000
END:DAYLIGHT
BEGIN:STANDARD
TZOFFSETFROM:+0200
TZOFFSETTO:+0100
TZNAME:CET
DTSTART:20211031T010000
END:STANDARD
BEGIN:DAYLIGHT
TZOFFSETFROM:+0100
TZOFFSETTO:+0200
TZNAME:CEST
DTSTART:20220327T010000
END:DAYLIGHT
BEGIN:STANDARD
TZOFFSETFROM:+0200
TZOFFSETTO:+0100
TZNAME:CET
DTSTART:20221030T010000
END:STANDARD
BEGIN:DAYLIGHT
TZOFFSETFROM:+0100
TZOFFSETTO:+0200
TZNAME:CEST
DTSTART:20230326T010000
END:DAYLIGHT
BEGIN:STANDARD
TZOFFSETFROM:+0200
TZOFFSETTO:+0100
TZNAME:CET
DTSTART:20231029T010000
END:STANDARD
BEGIN:DAYLIGHT
TZOFFSETFROM:+0100
TZOFFSETTO:+0200
TZNAME:CEST
DTSTART:20240331T010000
END:DAYLIGHT
BEGIN:STANDARD
TZOFFSETFROM:+0200
TZOFFSETTO:+0100
TZNAME:CET
DTSTART:20241027T010000
END:STANDARD
END:VTIMEZONE
BEGIN:VEVENT
DTSTART;TZID=Europe/Berlin:20230304T100000
DTEND;TZID=Europe/Berlin:20230305T150000
DTSTAMP:20260422T194333
CREATED:20221218T193610Z
LAST-MODIFIED:20221218T193610Z
UID:6852-1677924000-1678028400@www.dfg-hessen.de
SUMMARY:DFG getreibt das Café in der Stadtbibliothek Wetzlar
DESCRIPTION:Dieses Wochenende steht das Kulturcafé in der Stadtbibliothek Wetzlar ganz im Zeichen der Deutsch-Finnischen Gesellschaft. Die Bezirksgruppe Gießen/Wetzlar betreut das Café und serviert  Gebäck aus Finnland. \nHaben Sie schon mal die köstlichen finnischen Zimtschnecken probiert? Oder möchten Sie mehr über Finnland oder die Deutsch-Finnische Gesellschaft erfahren? Vielleicht haben Sie auch Interesse daran\, einen Jugendlichen aus Finnland im Sommer für 4 Wochen aufzunehmen? Hier gibt es jede Menge Informationen! \nKommen Sie vorbei! Wir sind für Sie da: \nam Samstg\, 4.März 2022\,von 10 Uhr bis 15 Uhr \nam Sonntag\, 5.März 2022\, von 10 Uhr bis 15 Uhr
URL:https://www.dfg-hessen.de/event/dfg-getreibt-das-cafe-in-der-stadtbibliothek-wetzlar
LOCATION:Stadtbibliothek Wetzlar\, Bahnhofstr. 6\, Wetzlar
CATEGORIES:verschiedenes
END:VEVENT
BEGIN:VEVENT
DTSTART;TZID=Europe/Berlin:20230211T193000
DTEND;TZID=Europe/Berlin:20230211T213000
DTSTAMP:20260422T194333
CREATED:20230201T105457Z
LAST-MODIFIED:20230204T143805Z
UID:7024-1676143800-1676151000@www.dfg-hessen.de
SUMMARY:Kaurismäki-Inszenierung am Staatstheater Mainz
DESCRIPTION:Das Staatstheater Mainz führt am Samstag\, 11. Februar 2023\,  um 19:30 Uhr das Schauspiel “Der Mann ohne Vergangenheit” auf. Das Stück basiert auf dem gleichnamigen Film des finnischen Kultregisseurs Aki Kaurismäki. Die Aufführung dauert  2 Stunden\, Einlass ist bereits eine halbe Stunde vorher. Für alle Finnlandfreunde ein MUSS!! \nZum Inhalt:\nEin Mann wird von drei Halbstarken zusammengeschlagen und kann sich fortan weder an seinen Namen noch an seine Vergangenheit erinnern. Er findet Zuflucht auf einem Schrottplatz\, wo er mit anderen Obdachlosen lebt. Irma\, eine Mitarbeiterin der Heilsarmee\, entwickelt Interesse für ihn und er findet schnell eine Arbeit. Alles scheint sich wieder zu normalisieren und der Mann ist glücklich\, doch das Leben als Namenloser bringt Probleme mit sich … \n \nWeitere Informationen zu dieser Veranstaltung und zum Ticketerwerb erhalten Sie beim Staatstheater Mainz 
URL:https://www.dfg-hessen.de/event/kaurismaeki-inszenierung-am-staatstheater-mainz-3
LOCATION:Staatstheater Mainz\, Gutenbergplatz 7\, Mainz\, 55116
CATEGORIES:verschiedenes
END:VEVENT
BEGIN:VEVENT
DTSTART;TZID=Europe/Berlin:20230205T150000
DTEND;TZID=Europe/Berlin:20230205T170000
DTSTAMP:20260422T194333
CREATED:20230201T105133Z
LAST-MODIFIED:20230201T105133Z
UID:7021-1675609200-1675616400@www.dfg-hessen.de
SUMMARY:Kaurismäki-Inszenierung am Staatstheater Mainz
DESCRIPTION:Das Staatstheater Mainz führt am Sonntag\, 5. Februar und am Sonntag\, 11. Februar 2023\, jeweils um 15 Uhr das Schauspiel “Der Mann ohne Vergangenheit” auf. Das Stück basiert auf dem gleichnamigen Film des finnischen Kultregisseurs Aki Kaurismäki. Die Aufführung dauert  2 Stunden\, Einlass ist bereits eine halbe Stunde vorher. Für alle Finnlandfreunde ein MUSS!! \nZum Inhalt: \nEin Mann wird von drei Halbstarken zusammengeschlagen und kann sich fortan weder an seinen Namen noch an seine Vergangenheit erinnern. Er findet Zuflucht auf einem Schrottplatz\, wo er mit anderen Obdachlosen lebt. Irma\, eine Mitarbeiterin der Heilsarmee\, entwickelt Interesse für ihn und er findet schnell eine Arbeit. Alles scheint sich wieder zu normalisieren und der Mann ist glücklich\, doch das Leben als Namenloser bringt Probleme mit sich … \n \nWeitere Informationen zu dieser Veranstaltung und zum Ticketerwerb erhalten Sie beim Staatstheater Mainz 
URL:https://www.dfg-hessen.de/event/kaurismaeki-inszenierung-am-staatstheater-mainz-2
LOCATION:Staatstheater Mainz\, Gutenbergplatz 7\, Mainz\, 55116
CATEGORIES:verschiedenes
END:VEVENT
BEGIN:VEVENT
DTSTART;TZID=Europe/Berlin:20230128T100000
DTEND;TZID=Europe/Berlin:20230129T150000
DTSTAMP:20260422T194333
CREATED:20221218T193241Z
LAST-MODIFIED:20221222T151903Z
UID:6849-1674900000-1675004400@www.dfg-hessen.de
SUMMARY:DFG betreibt das Café in der Wetzlarer Stadtbibliothek
DESCRIPTION:Dieses Wochenende steht das Kulturcafé in der Stadtbibliothek Wetzlar ganz im Zeichen der Deutsch-Finnischen Gesellschaft. Die Bezirksgruppe Gießen/Wetzlar betreut das Café und serviert  Gebäck aus Finnland.\n\nHaben Sie schon mal die köstlichen finnischen Zimtschnecken probiert? Oder möchten Sie mehr über Finnland oder die Deutsch-Finnische Gesellschaft erfahren? Vielleicht haben Sie auch Interesse daran\, einen Jugendlichen aus Finnland im Sommer für 4 Wochen aufzunehmen? Hier gibt es jede Menge Informationen! \nKommen Sie vorbei! Wir sind für Sie da: \nam Samstg\, 28.Jan.2022\,von 10 Uhr bis 15 Uhr \nam Sonntag\, 29.Jan.2022\, von 10 Uhr bis 15 Uhr
URL:https://www.dfg-hessen.de/event/cafe-wetzlarer-stadtbibliothek
LOCATION:Stadtbibliothek Wetzlar\, Bahnhofstr. 6\, Wetzlar
CATEGORIES:verschiedenes
END:VEVENT
BEGIN:VEVENT
DTSTART;TZID=Europe/Berlin:20230121T193000
DTEND;TZID=Europe/Berlin:20230121T193000
DTSTAMP:20260422T194333
CREATED:20230115T091402Z
LAST-MODIFIED:20230115T091402Z
UID:6928-1674329400-1674329400@www.dfg-hessen.de
SUMMARY:Lesung in der Therme in Wiesbaden: auch finnische Literatur dabei!
DESCRIPTION:Lesungen in der Kaiser-Friederich-Therme: auch finnische Literatur dabei! \nKeinSchweiß_Plakat_klein_(c)ReinholdFischenich\nAm 21. und 28. Januar öffnet die Kaiser-Friedrich-Therme ab 19:30 Uhr exklusiv ihre Tore für die Literatur.  \nLauschen Sie schweißtreibenden Texten der Weltliteratur an einem wärmenden Ort. An zwei Abenden öffnet das Kaiser–Friedrich–Bad exklusiv seine Tore für die Literatur. Sie hören: über das Baden\, den Vulkanausbruch\, das Nacktsein\, die Großwäscherei\, den abkühlenden Regen\, das Saunieren …  \nDen Gast erwarten an beiden Abenden jeweils drei 25-minütige Lesungen mit Literatur aus ganz unterschiedlichen Genres\, die von zwei kurzen\, so genannten Aufgusslesungen abgerundet werden.  \nDie Becken sind zwar leer\, aber das Programm ist abwechslungsreich. Auch finnische Literatur ist dabei:  \nAm 21. Januar liest Grit Schade aus der deutschen Übersetzung des Romans “Tristania” der finnischen Autorin Marianna Kurtto. Ein poetisches Buch über einen Vulkanausbruch und die Menschen\, die auf der Insel leben.  \nZudem werden in kurzen Aufgusslesungen aus dem Buch “Gebrauchsanweisung Finnland” des in Finnland lebenden\, deutschen Autors Roman Schatz gelesen. \nUnd wem nicht schon vom Zuhören warm wird\, wird die kostenlose Thermalheizung erfreuen.  \nEin Saunaabend der anderen Art! \n????? \nEinlass ab 19 Uhr. Der Eintritt ist frei. Spenden sind willkommen. Kommen Sie bitte bekleidet! Veranstaltungsort: Kaiser–Friedrich–Therme\, Langgasse 38 – 40\, 65183Wiesbaden Veranstaltende: Schade/Wronka in Zusammenarbeit mit Mattiaqua und unter Mitwirkung des Atelier Römerberg e.V. Förderung: durch das Kulturamt Wiesbaden und die Ortsbeiräte Mitte\, Südost und Hollerborn. Kontakt: LesungenKFT@gmx.de Info: mattiaqua.de/kaiser–friedrich–therme \nWeitere Informationen zu den Lesungen auch unter www.mattiaqua.de/kein-schweiss-aufs-buch
URL:https://www.dfg-hessen.de/event/lesung-in-wiesbaden
LOCATION:Kaiser Friedrich Therme\, Langgasse 38-40\, Wiesbaden\, 65183
CATEGORIES:Lesung
END:VEVENT
BEGIN:VEVENT
DTSTART;TZID=Europe/Berlin:20230121T110000
DTEND;TZID=Europe/Berlin:20230121T190000
DTSTAMP:20260422T194333
CREATED:20230102T164344Z
LAST-MODIFIED:20230102T164344Z
UID:6875-1674298800-1674327600@www.dfg-hessen.de
SUMMARY:Finnisch Singen in Bensheim
DESCRIPTION:Die Suomi Koulu Frankfurt lädt zum Konzert und Mitsingen von finnischen Liedern ein! \nAm Samstag\, 21.1.2023 gibt es um 11 Uhr  ein Kinderliedersingen in Bensheim und um 19 Uhr Lieder für Erwachsene.
URL:https://www.dfg-hessen.de/event/finnisch-singen-in-bensheim
LOCATION:St. Laurentius Gemeinde\, Tannbergstr. 23\, Bensheim
CATEGORIES:Konzert
END:VEVENT
BEGIN:VEVENT
DTSTART;TZID=Europe/Berlin:20230120T170000
DTEND;TZID=Europe/Berlin:20230120T170000
DTSTAMP:20260422T194333
CREATED:20230102T163903Z
LAST-MODIFIED:20230102T164527Z
UID:6873-1674234000-1674234000@www.dfg-hessen.de
SUMMARY:Finnisch singen in Frankfurt
DESCRIPTION:Die Suomi Koulu Frankfurt lädt zum Konzert und Mitsingen von finnischen Liedern ein! \nAm Freitag\, 20.1.2023\, um 17 Uhr gibt es Kinderlieder in der Finnischen Gemeinde Frankfurt. \nAm Samstag\, 21.1.2023 folgt um 11 Uhr ebenfalls ein Kinderliedersingen in Bensheim und um 19 Uhr Lieder für Erwachsene.
URL:https://www.dfg-hessen.de/event/finnisch-singen-in-frankfurt
LOCATION:Finnische Gemeinde\, Carl-Goerdeler-Str. 1\, Frankfurt\, 60320
CATEGORIES:Konzert
END:VEVENT
BEGIN:VEVENT
DTSTART;TZID=Europe/Berlin:20221226T160000
DTEND;TZID=Europe/Berlin:20221226T160000
DTSTAMP:20260422T194333
CREATED:20221221T164222Z
LAST-MODIFIED:20221221T164330Z
UID:6858-1672070400-1672070400@www.dfg-hessen.de
SUMMARY:finnischer Gottesdienst in Frankfurt
DESCRIPTION:Am 26.Dezember 2022 findet ein Gottesdienst in finnischer Sprache in der Dornbuschgemeinde in Frankfurt statt. Beginn ist um 16 Uhr
URL:https://www.dfg-hessen.de/event/finnischer-gottesdienst-in-frankfurt
LOCATION:Finnische Gemeinde\, Carl-Goerdeler-Str. 1\, Frankfurt\, 60320
CATEGORIES:Weihnachten
END:VEVENT
BEGIN:VEVENT
DTSTART;TZID=Europe/Berlin:20221218T100000
DTEND;TZID=Europe/Berlin:20221218T160000
DTSTAMP:20260422T194333
CREATED:20221031T153249Z
LAST-MODIFIED:20221031T153249Z
UID:6699-1671357600-1671379200@www.dfg-hessen.de
SUMMARY:DFG betreibt das Café in der Stadtbibliothek Wetzlar
DESCRIPTION:Dieses Wochenende steht das Kulturcafé in der Stadtbibliothek Wetzlar ganz im Zeichen der Deutsch-Finnischen Gesellschaft. Die Bezirksgruppe Gießen/Wetzlar betreut das Café und serviert  Gebäck aus Finnland. \nHaben Sie schon mal die köstlichen finnischen Zimtschnecken probiert? Oder möchten Sie mehr über Finnland oder die Deutsch-Finnische Gesellschaft erfahren? Vielleicht haben Sie auch Interesse daran\, einen Jugendlichen aus Finnland im Sommer für 4 Wochen aufzunehmen? Hier gibt es jede Menge Informationen! \nKommen Sie vorbei! Wir sind für Sie da \nam Sonntag\, 18.Dez.2022\, von 10 Uhr bis 16 Uhr \nStadtbibliothek Wetzlar\nBahnhofstr. 6
URL:https://www.dfg-hessen.de/event/dfg-cafe-stadtbibliothek-wetzlar-3
LOCATION:Stadtbibliothek Wetzlar\, Bahnhofstr. 6\, Wetzlar
CATEGORIES:verschiedenes
END:VEVENT
BEGIN:VEVENT
DTSTART;TZID=Europe/Berlin:20221217T100000
DTEND;TZID=Europe/Berlin:20221217T160000
DTSTAMP:20260422T194333
CREATED:20221031T152815Z
LAST-MODIFIED:20221031T152815Z
UID:6696-1671271200-1671292800@www.dfg-hessen.de
SUMMARY:DFG betreibt das Café in der Stadtbibliothek Wetzlar
DESCRIPTION:Dieses Wochenende steht das Kulturcafé in der Stadtbibliothek Wetzlar ganz im Zeichen der Deutsch-Finnischen Gesellschaft. Die Bezirksgruppe Gießen/Wetzlar betreut das Café und serviert  Gebäck aus Finnland. \nHaben Sie schon mal die köstlichen finnischen Zimtschnecken probiert? Oder möchten Sie mehr über Finnland oder die Deutsch-Finnische Gesellschaft erfahren? Vielleicht haben Sie auch Interesse daran\, einen Jugendlichen aus Finnland im Sommer für 4 Wochen aufzunehmen? Hier gibt es jede Menge Informationen! \nKommen Sie vorbei! Wir sind für Sie da: \nam Samstg\, 17.Dez.2022\,von 10 Uhr bis 16 Uhr \nam Sonntag\, 18.Dez.2022\, von 10 Uhr bis 16 Uhr
URL:https://www.dfg-hessen.de/event/dfg-cafe-stadtbibliothek-wetzlar-2
LOCATION:Stadtbibliothek Wetzlar\, Bahnhofstr. 6\, Wetzlar
END:VEVENT
BEGIN:VEVENT
DTSTART;TZID=Europe/Berlin:20221127T100000
DTEND;TZID=Europe/Berlin:20221127T160000
DTSTAMP:20260422T194333
CREATED:20221031T152351Z
LAST-MODIFIED:20221031T152351Z
UID:6694-1669543200-1669564800@www.dfg-hessen.de
SUMMARY:DFG betreibt das Café in der Stadtbibliothek Wetzlar
DESCRIPTION:Dieses Wochenende steht das Kulturcafé in der Stadtbibliothek Wetzlar ganz im Zeichen der Deutsch-Finnischen Gesellschaft. Die Bezirksgruppe Gießen/Wetzlar betreut das Café und serviert  Gebäck aus Finnland. Haben Sie schon mal die köstlichen finnischen Zimtschnecken probiert? Oder möchten Sie mehr über Finnland oder die Deutsch-Finnische Gesellschaft erfahren? Vielleicht haben Sie auch Interesse daran\, einen Jugendlichen aus Finnland im Sommer für 4 Wochen aufzunehmen? Hier gibt es jede Menge Informationen! \nKommen Sie vorbei! Wir sind für Sie da: \nam Sonntag\, 27.Nov.2022\, von 10 Uhr bis 16 Uhr
URL:https://www.dfg-hessen.de/event/dfg-cafe-stadtbibliothek-wetzlar
LOCATION:Stadtbibliothek Wetzlar\, Bahnhofstr. 6\, Wetzlar
CATEGORIES:verschiedenes
END:VEVENT
BEGIN:VEVENT
DTSTART;TZID=Europe/Berlin:20221126T100000
DTEND;TZID=Europe/Berlin:20221126T160000
DTSTAMP:20260422T194333
CREATED:20221031T151945Z
LAST-MODIFIED:20221031T151945Z
UID:6692-1669456800-1669478400@www.dfg-hessen.de
SUMMARY:DFG betreibt das Café in der Stadtbibliothek Wetzlar
DESCRIPTION:Dieses Wochenende steht das Kulturcafé in der Stadtbibliothek Wetzlar ganz im Zeichen der Deutsch-Finnischen Gesellschaft. Die Bezirksgruppe Gießen/Wetzlar betreut das Café und serviert  Gebäck aus Finnland. Haben Sie schon mal die köstlichen finnischen Zimtschnecken probiert? Oder möchten Sie mehr über Finnland oder die Deutsch-Finnische Gesellschaft erfahren? Vielleicht haben Sie auch Interesse daran\, einen Jugendlichen aus Finnland im Sommer für 4 Wochen aufzunehmen? Hier gibt es jede Menge Informationen! \nKommen Sie vorbei! Wir sind für Sie da: \nam Samstg\, 26.Nov.2022\,von 10 Uhr bis 16 Uhr \nam Sonntag\, 27.Nov.2022\, von 10 Uhr bis 16 Uhr
URL:https://www.dfg-hessen.de/event/dfg-cafe-in-stadtbibliothek-wetzlar
LOCATION:Stadtbibliothek Wetzlar\, Bahnhofstr. 6\, Wetzlar
CATEGORIES:verschiedenes
END:VEVENT
BEGIN:VEVENT
DTSTART;TZID=Europe/Berlin:20221124T210000
DTEND;TZID=Europe/Berlin:20221129T210000
DTSTAMP:20260422T194333
CREATED:20221120T134306Z
LAST-MODIFIED:20221121T025025Z
UID:6723-1669323600-1669755600@www.dfg-hessen.de
SUMMARY:Kaurismäki-Film im Kino Traumstern in Lich
DESCRIPTION:Das Traumstern-Kino in Lich zeigt von Donnerstag\, 24.11.2022 bis Dienstag\, 29.11.22\, jeweils um 21:00 Uhr den Film “Grump” von Mika Kaurismäki. \nMehr dazu gibt es auf unserer Website \n 
URL:https://www.dfg-hessen.de/event/kaurismaeki-film-im-kino-traumstern-in-lich
LOCATION:Traumstern\, Gießener Str. 15\, Lich
CATEGORIES:verschiedenes
END:VEVENT
BEGIN:VEVENT
DTSTART;TZID=Europe/Berlin:20210924T200000
DTEND;TZID=Europe/Berlin:20210924T200000
DTSTAMP:20260422T194333
CREATED:20210811T081740Z
LAST-MODIFIED:20210811T081740Z
UID:5762-1632513600-1632513600@www.dfg-hessen.de
SUMMARY:Finnisches Duo spielt in Wetzlar
DESCRIPTION:“Wir spielen Musik von gefühlvollem Flüstern bis zum lauten Schreien – der Maßstab ist das Leben”. \nHuman Cell Signals ist ein Duo bestehend aus dem Cellisten Harri Topi und der Kantelespielerin Noora Laiho\, die mutige Crossover-Versionen von Rockklassikern kreieren\, aber auch ihre eigene Musik komponieren. Die Musik wandert vom Rock bis hin zu zarteren Tönen\, ein Teil der Stücke könnte man auch als Filmmusik bezeichnen. Mal mehr elektronisch verschlungen\, mal fast komplett akustisch. Noora Laiho unterrichtet Kantele am Pirkanmaa musiikkiopisto/Tampere und Harri Topi Cello am Tampere Konservatorium. Das Programm besteht aus eigenen Kompositionen und eigenen Musikversionen aus Liedern von Jimi Hendrix und Led Zeppelin.\nGerade wurde die Single „Wonder“ veröffentlicht und im Frühjahr 2020 wurde das erste Album bei Eclipse Music herausgebracht. \nHuman Cell ist auf Einladung der Deutsch-Finnischen Gesellschaft auf Deutschlandtournee und macht am 24. September 2021 Station in Wetzlar. \n 
URL:https://www.dfg-hessen.de/event/finnisches-duo-spielt-in-wetzlar
LOCATION:Franzis\, Franziskanerstr. 4-6\, Wetzlar\, 35578
CATEGORIES:Konzert
END:VEVENT
BEGIN:VEVENT
DTSTART;TZID=Europe/Berlin:20210331T190000
DTEND;TZID=Europe/Berlin:20210331T210000
DTSTAMP:20260422T194333
CREATED:20210318T101054Z
LAST-MODIFIED:20210318T101542Z
UID:5627-1617217200-1617224400@www.dfg-hessen.de
SUMMARY:Zoom-Webinar: Finnische Romane
DESCRIPTION:Der schweizer Antiumverlag lädt an drei Abenden im März 2021 zu einem Zoom-Webinar mit finnischen Autoren und Autorinnen ein. Die Webinare sind zweisprachig – auf deutsch und finnisch. Heute mit Jaakko Melentjeff und Juha Mäntylä.\nNähere Informationen finden Sie hier:
URL:https://www.dfg-hessen.de/event/5627
LOCATION:online
CATEGORIES:verschiedenes
END:VEVENT
BEGIN:VEVENT
DTSTART;TZID=Europe/Berlin:20210324T190000
DTEND;TZID=Europe/Berlin:20210324T210000
DTSTAMP:20260422T194333
CREATED:20210318T095529Z
LAST-MODIFIED:20210318T095912Z
UID:5620-1616612400-1616619600@www.dfg-hessen.de
SUMMARY:Zoom-Webinar: Finnische Romane
DESCRIPTION:Der schweizer Antiumverlag lädt an drei Abenden im März 2021 zu einem Zoom-Webinar mit finnischen Autoren und Autorinnen ein. Die Webinare sind zweisprachig – auf deutsch und finnisch. Heute mit Helena Väisänen und Mika Häntunen.\nNähere Informationen finden Sie hier:
URL:https://www.dfg-hessen.de/event/webinar-finnische-romane-2
LOCATION:online
CATEGORIES:verschiedenes
END:VEVENT
BEGIN:VEVENT
DTSTART;TZID=Europe/Berlin:20210310T190000
DTEND;TZID=Europe/Berlin:20210310T210000
DTSTAMP:20260422T194333
CREATED:20210318T091020Z
LAST-MODIFIED:20210318T095703Z
UID:5616-1615402800-1615410000@www.dfg-hessen.de
SUMMARY:Zoom-Webinar finnische Romane
DESCRIPTION:Der schweizer Antiumverlag lädt an drei Abenden im März 2021 zu einem Zoom-Webinar mit finnischen Autoren und Autorinnen ein. Die Webinare sind zweisprachig – auf deutsch und finnisch. Den Auftakt machen am 10. März 2021 Helena Waris und Mikko-Pekka Heikkinen.\nNähere Informationen finden Sie hier:
URL:https://www.dfg-hessen.de/event/webinar-finnische-romane
LOCATION:online
CATEGORIES:verschiedenes
END:VEVENT
BEGIN:VEVENT
DTSTART;TZID=Europe/Berlin:20200115T200000
DTEND;TZID=Europe/Berlin:20200115T200000
DTSTAMP:20260422T194333
CREATED:20191121T093948Z
LAST-MODIFIED:20191121T093948Z
UID:5194-1579118400-1579118400@www.dfg-hessen.de
SUMMARY:Bändi-Konzert in Frankfurt
DESCRIPTION:Finntango-Konzert mit BÄNDI in Frankfurt\n  ­\n BÄNDI hat neue Finnische Tango-Perlen entdeckt und gibt bei diesem  Konzert eine kleine Kostprobe auf die neue CD\, die im Januar 2020 erscheint!\nBÄNDI spielt diesmal gekonnt mit Zitaten aus Weltmusik\, Pop\, Jazz\, Klezmer und Blues\, um doch wieder bei den wunderbaren Melodien des Finnischen Tangos zu landen und sie zu etwas ganz Neuem und Einzigartigen werden zu lassen. Atmosphärische Wüstensounds treffen auf zarte Elfenstimmen\, auf Krauti-Rokki folgen wunderschön-traurige Songs\, die von der Sehnsucht\, von der unglücklichen Liebe und der Sehnsucht nach der unglücklichen Liebe erzählen. \nBÄNDI bringt bei diesem Konzert sogar den ersten finnischen Schreitango auf deutsche Bühnen. Wer noch nie einen Finnischen Tango Abend wie diesen erlebt hat\, wird ihn später nicht mehr vergessen! \nBÄNDI spielt in der Besetzung: Kristina Debelius (voc/piano/acc)\, Thomas Salzmann (dr/perc)\, Volker Denkel (git)\, Tobias Frisch (voc/violine/kazoo)\, André Berthold (kb)\, Andrea Emeritzy (clar). \n  \n +++ Neue CD “UNIKUVA” erscheint im Januar +++\nEndlich ist es soweit: Die Band experimentiert auf der neuen schon sehnsüchtig erwarteten CD viel mit Klängen und mit für den Tango ungewöhnlichen Instrumenten. Um Sängerin Kristina Debelius mit ihrer samtigen\, rauchig-grazilen Stimme\, Gitarrist Volker Denkel mit seinem feinen und melancholischen Spiel\, Thomas Salzmann und seinem kreativen und kunstsinnigen Schlagzeugballett  sowie Tobias Frisch als singender Crooner\, der auch die letzte schwermütige Seele mit Esprit und Witz umgarnt\, hat sich die Band erweitert: Dazu gekommen sind die  atmosphärisch-coole Pedal-Steel von Martin Lejeune\, der steady Bass von André Berthold\, die perlende Klarinette von Andrea Emeritzy\, heiße Congas von Al Zanabili\, das liebreizende Cello von Johannes Kramer\, die nostalgische Stimme der Opernsängerin Karina Schwarz und am Anfang eine Leier in 432 Hertz von Frau Scheffers.\n>\n> Wer möchte\, kann eine CD vorbestellen unter: info@baendi.de zum Preis von 17\,50 Euro\n> (15 Euro plus 2\,50 Euro Versand). Sie wird dann im Januar per Post geliefert! \n>\nEintritt 18 Euro\, ermäßigt 15 Euro
URL:https://www.dfg-hessen.de/event/baendi-konzert-in-frankfurt
LOCATION:Die Fabrik -Kulturwerk\, Mittlerer Hasenpfad 5/Im Hof\, Frankfurt\, 60598
CATEGORIES:Konzert
ATTACH;FMTTYPE=image/jpeg:https://www.dfg-hessen.de/wp-content/uploads/2019/11/thumbs_Bändi_und_Rosen.jpg
END:VEVENT
BEGIN:VEVENT
DTSTART;TZID=Europe/Berlin:20191207T170000
DTEND;TZID=Europe/Berlin:20191207T190000
DTSTAMP:20260422T194333
CREATED:20190805T145318Z
LAST-MODIFIED:20190805T145318Z
UID:5020-1575738000-1575745200@www.dfg-hessen.de
SUMMARY:Weihnachtsliedersingen in Wetzlar
DESCRIPTION:Internationales Weihnachtsliedersingen in verschiedenen Sprachen! \nDie Bezirksgruppe Giessen/Wetzlar beteiligt sich auch in diesem Jahr am Singen mit zwei finnischen Liedern. Am Ende der Veranstaltung gibt es wieder Glühwein und kleine Leckereien aus den Ländern Österreich\, Italien\, Tschechien\, Frankreich\, England und Finnland. Der Eintritt ist frei\, um eine kleine Spende wird gebeten. \n 
URL:https://www.dfg-hessen.de/event/weihnachtsliedersingen
LOCATION:Musikschule Wetzlar\, Schillerplatz\, Wetzlar
CATEGORIES:Konzert
END:VEVENT
BEGIN:VEVENT
DTSTART;TZID=Europe/Berlin:20190623T180000
DTEND;TZID=Europe/Berlin:20190623T200000
DTSTAMP:20260422T194333
CREATED:20190405T125005Z
LAST-MODIFIED:20190418T054603Z
UID:4826-1561312800-1561320000@www.dfg-hessen.de
SUMMARY:Dark Ride Brothers in Giessen
DESCRIPTION:Dark-Ride-Brothers-Promo-Picture-by-Nestori-Lönngrén-Nestography \nDie deutsch-finnische Band Dark Ride Brothers gibt am 23. Juni ein Konzert in Giessen.  \nDie Band wurde 2014 von dem Deutschen Sven Langbein und dem Südfinnen Vesa Winberg gegründet und gewinnt mit ihren eigenen Songs immer mehr Anhänger. \nEine Mischung aus Rock\, Pop und Country reisst das Publikum mit. Im April erscheint das von den Fans heißersehnte Debutalbum Join the Ride. Unter dem gleichen Namen Dark Ride Brothers-Reloaded  ist die Band im Sommer auf einer zweiwöchigen Deutschlandtournee unterwegs. \n \n  \nMehr über die Band finden Sie auf den Seiten von DRB. \nKarten gibt es bei allen bekannten Vorkaufsstellen.
URL:https://www.dfg-hessen.de/event/dark-ride-brothers
LOCATION:Schlachthof Giessen\, Schlachthofstr. 2\, Gießen
CATEGORIES:Konzert
ATTACH;FMTTYPE=image/jpeg:https://www.dfg-hessen.de/wp-content/uploads/2019/04/Dark-Ride-Brothers-Promo-Picture-by-Nestori-Lönngrén-Nestography.jpg
END:VEVENT
BEGIN:VEVENT
DTSTART;TZID=Europe/Berlin:20181202T110000
DTEND;TZID=Europe/Berlin:20181202T170000
DTSTAMP:20260422T194333
CREATED:20181018T085040Z
LAST-MODIFIED:20181018T085040Z
UID:4014-1543748400-1543770000@www.dfg-hessen.de
SUMMARY:Finnischer Basar in Frankfurt
DESCRIPTION:Herzliche Einladung zum Finnischen Basar\nAm ersten Dezemberwochenende findet der traditionelle Weihnachtsbasar der Finnischen Gemeinde Frankfurt statt. \nEs werden finnische Spezialitäten wie Glögi und Flammlachs angeboten. Außerdem erwartet Sie ein reichhaltiges Angebot an finnischen Lebensmitteln und nordischem Handwerk. Am Sonntag\, 2.12. findet um 10 uhr ein deutsch-finnischer Gottesdienst zusammen mit der Dornbuschgemeinde statt. \nHerzlich willkommen   –   Tervetuloa! \nNäheres siehe auch hier
URL:https://www.dfg-hessen.de/event/finnischer-basar-in-frankfurt
LOCATION:Finnische Gemeinde\, Carl-Goerdeler-Str. 1\, Frankfurt\, 60320
CATEGORIES:Basar
END:VEVENT
END:VCALENDAR