BEGIN:VCALENDAR
VERSION:2.0
PRODID:-//DFG Hessen e.V. - ECPv6.15.20//NONSGML v1.0//EN
CALSCALE:GREGORIAN
METHOD:PUBLISH
X-WR-CALNAME:DFG Hessen e.V.
X-ORIGINAL-URL:https://www.dfg-hessen.de
X-WR-CALDESC:Veranstaltungen für DFG Hessen e.V.
REFRESH-INTERVAL;VALUE=DURATION:PT1H
X-Robots-Tag:noindex
X-PUBLISHED-TTL:PT1H
BEGIN:VTIMEZONE
TZID:Europe/Berlin
BEGIN:DAYLIGHT
TZOFFSETFROM:+0100
TZOFFSETTO:+0200
TZNAME:CEST
DTSTART:20250330T010000
END:DAYLIGHT
BEGIN:STANDARD
TZOFFSETFROM:+0200
TZOFFSETTO:+0100
TZNAME:CET
DTSTART:20251026T010000
END:STANDARD
BEGIN:DAYLIGHT
TZOFFSETFROM:+0100
TZOFFSETTO:+0200
TZNAME:CEST
DTSTART:20260329T010000
END:DAYLIGHT
BEGIN:STANDARD
TZOFFSETFROM:+0200
TZOFFSETTO:+0100
TZNAME:CET
DTSTART:20261025T010000
END:STANDARD
BEGIN:DAYLIGHT
TZOFFSETFROM:+0100
TZOFFSETTO:+0200
TZNAME:CEST
DTSTART:20270328T010000
END:DAYLIGHT
BEGIN:STANDARD
TZOFFSETFROM:+0200
TZOFFSETTO:+0100
TZNAME:CET
DTSTART:20271031T010000
END:STANDARD
END:VTIMEZONE
BEGIN:VEVENT
DTSTART;TZID=Europe/Berlin:20261024T190000
DTEND;TZID=Europe/Berlin:20261024T190000
DTSTAMP:20260421T181425
CREATED:20260127T162618Z
LAST-MODIFIED:20260127T162618Z
UID:8787-1792868400-1792868400@www.dfg-hessen.de
SUMMARY:Konzert mit Vilma Talvitie in Wiesbaden
DESCRIPTION:Während ihrer von der Deutsch-Finnischen Gesellschaft organisierten Deutschlandtournee macht die finnische Sängerin Vilma Talvitie in Wiesbaden Station. Ihr Konzert findet statt am Samstag\, dem 24. Oktober 2026 in der ev. Thomasgemeinde\, Richard-Wagner-Str. 88 in Wiesbaden. Beginn ist um 19 Uhr. \n(Foto: Meeri Koutaniemi) Die finnische Sängerin Vilma Talvitie kommt nach Wiesbaden\nVilma Talvitie ist eine Ethno-Pop-Künstlerin der besonderen Art: Die Sängerin aus Helsinki baut Brücken zwischen Pop\, Weltmusik und heimischem Folk. Mit klarer\, heller Stimme singt sie über dunkle Themen. \nSie begeistert als „One-Woman-Band“ mit Stimme\, Piano\, Body Percussion und Tanzelementen – mit ihrem Charisma bringt sie jede Bühne zum Leuchten. Sie lässt sich von finno-ugrischen Geschichten und Traditionen inspirieren\, transformiert diese in ihre eigenen Songs und kreiert so einen ganz eigenen musikalischen Kosmos. Nachdem sie 2018 an der Sibelius Akademie ihren Master gemacht hat\, ist sie in über 40 Ländern aufgetreten. 2023 erschien ihre erste CD Mistä Mihin; zuvor hatte sie schon mit der Band Valma & Varsinaiset mehrere CDs veröffentlicht. Während der Covid-Pandemie lebte sie in Deutschland; zu ihren Einflüssen zählt sie u.a. Maija Kauhanen\, Tori Amos und Kate Bush. \nVilma Talvitie ist eine sehr eigenwillige Musikerin\, die mit enormem Charisma und faszinierenden Songs das Publikum begeistert. \n(Foto: Mikko Malmivaara) Auf Deutschlandtournee: die finnische Sängerin Vilma Talvitie\nHier gibt es eine Kostprobe ihrer Musik:
URL:https://www.dfg-hessen.de/event/konzert-mit-vilma-talvitie-in-wiesbaden
LOCATION:Ev. Thomasgemeinde\, Richard-Wagner Str. 88\, Wiesbaden
CATEGORIES:Konzert
END:VEVENT
END:VCALENDAR