BEGIN:VCALENDAR
VERSION:2.0
PRODID:-//DFG Hessen e.V. - ECPv6.15.20//NONSGML v1.0//EN
CALSCALE:GREGORIAN
METHOD:PUBLISH
X-WR-CALNAME:DFG Hessen e.V.
X-ORIGINAL-URL:https://www.dfg-hessen.de
X-WR-CALDESC:Veranstaltungen für DFG Hessen e.V.
REFRESH-INTERVAL;VALUE=DURATION:PT1H
X-Robots-Tag:noindex
X-PUBLISHED-TTL:PT1H
BEGIN:VTIMEZONE
TZID:Europe/Berlin
BEGIN:DAYLIGHT
TZOFFSETFROM:+0100
TZOFFSETTO:+0200
TZNAME:CEST
DTSTART:20240331T010000
END:DAYLIGHT
BEGIN:STANDARD
TZOFFSETFROM:+0200
TZOFFSETTO:+0100
TZNAME:CET
DTSTART:20241027T010000
END:STANDARD
BEGIN:DAYLIGHT
TZOFFSETFROM:+0100
TZOFFSETTO:+0200
TZNAME:CEST
DTSTART:20250330T010000
END:DAYLIGHT
BEGIN:STANDARD
TZOFFSETFROM:+0200
TZOFFSETTO:+0100
TZNAME:CET
DTSTART:20251026T010000
END:STANDARD
BEGIN:DAYLIGHT
TZOFFSETFROM:+0100
TZOFFSETTO:+0200
TZNAME:CEST
DTSTART:20260329T010000
END:DAYLIGHT
BEGIN:STANDARD
TZOFFSETFROM:+0200
TZOFFSETTO:+0100
TZNAME:CET
DTSTART:20261025T010000
END:STANDARD
END:VTIMEZONE
BEGIN:VEVENT
DTSTART;TZID=Europe/Berlin:20250603T200000
DTEND;TZID=Europe/Berlin:20250603T200000
DTSTAMP:20260423T114217
CREATED:20250525T091915Z
LAST-MODIFIED:20250525T091915Z
UID:8524-1748980800-1748980800@www.dfg-hessen.de
SUMMARY:Finnischer Standup Comedian in Frankfurt
DESCRIPTION:Am Dienstag\, 3. Juni 2025\, gastiert der finnische Standup-Komiker Ismo Leikola in der Frankfurter Jahrhunderthalle! Leikola stammt aus Jyväskylä und studierte dort Physik und andere Naturwissenschaften. Während seines Studiums hielt er gern spaßige Vorträge und beschloss irgendwann\, sich als Komiker einen Namen zu machen. Dies ist ihm hervorragend gelungen!  Bereits 2003 wurde er zum Standup-Comedian des Jahres gewählt. Im Herbst 2009 ging er auf große Tour durch ganz Finnland mit dem Titel “Die Jagd nach dem verlorenen Lächeln” (Kadonneen naurun metsästys) und auch ein Musical hat er bereits geschrieben. \nMittlerweile wohnt Leikola in Los Angeles. Nun kommt er mit seiner  “ISMO – Woo Hoo! World Tour neben Hamburg und Berlin auch nach Frankfurt. Sein Programm ist auf englisch. \nTickets gibt es hier
URL:https://www.dfg-hessen.de/event/finnischer-standup-comedian-in-frankfurt
LOCATION:Jahrhunderthalle Frankfurt\, Pfaffenwiese 301\, Frankfurt
CATEGORIES:verschiedenes
END:VEVENT
END:VCALENDAR