BEGIN:VCALENDAR
VERSION:2.0
PRODID:-//DFG Hessen e.V. - ECPv6.15.20//NONSGML v1.0//EN
CALSCALE:GREGORIAN
METHOD:PUBLISH
X-ORIGINAL-URL:https://www.dfg-hessen.de
X-WR-CALDESC:Veranstaltungen für DFG Hessen e.V.
REFRESH-INTERVAL;VALUE=DURATION:PT1H
X-Robots-Tag:noindex
X-PUBLISHED-TTL:PT1H
BEGIN:VTIMEZONE
TZID:Europe/Berlin
BEGIN:DAYLIGHT
TZOFFSETFROM:+0100
TZOFFSETTO:+0200
TZNAME:CEST
DTSTART:20240331T010000
END:DAYLIGHT
BEGIN:STANDARD
TZOFFSETFROM:+0200
TZOFFSETTO:+0100
TZNAME:CET
DTSTART:20241027T010000
END:STANDARD
BEGIN:DAYLIGHT
TZOFFSETFROM:+0100
TZOFFSETTO:+0200
TZNAME:CEST
DTSTART:20250330T010000
END:DAYLIGHT
BEGIN:STANDARD
TZOFFSETFROM:+0200
TZOFFSETTO:+0100
TZNAME:CET
DTSTART:20251026T010000
END:STANDARD
BEGIN:DAYLIGHT
TZOFFSETFROM:+0100
TZOFFSETTO:+0200
TZNAME:CEST
DTSTART:20260329T010000
END:DAYLIGHT
BEGIN:STANDARD
TZOFFSETFROM:+0200
TZOFFSETTO:+0100
TZNAME:CET
DTSTART:20261025T010000
END:STANDARD
END:VTIMEZONE
BEGIN:VEVENT
DTSTART;TZID=Europe/Berlin:20250313T183000
DTEND;TZID=Europe/Berlin:20250313T200000
DTSTAMP:20260423T162219
CREATED:20250113T115602Z
LAST-MODIFIED:20250224T123901Z
UID:8352-1741890600-1741896000@www.dfg-hessen.de
SUMMARY:Finnischer Film: deutsche Erstaufführung zum Werther-Jubiläum in Wetzlar
DESCRIPTION:Anlässlich des Goethe-Jubiläums “250 Jahre Werther” zeigt die Deutsch-Finnische Gesellschaft in Zusammenarbeit mit den Städtischen Museen Wetzlar den finnischen Film “Nuoren Wertherin Jäljillä” in deutscher Erstaufführung! \nNuoren Wertherin jäljillä\nIn dem weltbekannten Briefroman “Die Leiden des jungen Werthers” verarbeitet Goethe seine platonische Liebe zu Charlotte Buff\, die er bei seinem Praktikanten-Aufenthalt in Wetzlar kennengelernt hat. Motiv für den tragischen Ausgang seines Romans war die Selbsttötung seines Bekannten Karl Wilhelm Jerusalem\, der unglücklich in eine verheiratete Frau verliebt war. Der “Tatort” der Selbsttötung kann auch heute noch im Wetzlarer Jerusalemhaus am Schillerplatz besichtigt werden. \nDer finnische Film von Jarmo Lampela  hat diese Geschichte zum Vorbild. Die Hauptfigur ist ein 19-jähriger junger Mann\, der unglücklich verliebt ist und sich schließlich selbst tötet. Sein Vater\, der viele Jahre keinen Kontakt zu seinem Sohn hatte\, macht sich nach dessen Tod zu den letzten Stationen im Leben seines Sohnes auf\, um ihm nahe zu sein und zu verstehen\, was passiert ist. \nDer melancholische\, gefühlvolle Film spielt im Großraum Helsinki und läuft  in finnisch mit englischen Untertiteln. \nDie Bezirksgruppe Gießen/Wetzlar serviert kleine finnische Snacks. Tervetuloa! Willkommen! \nOrt und Zeit: \nDonnerstag\, 13. März 2025\, um 18:30 Uhr\nStadtmuseum Wetzlar\, Lottestr. 8-10\, Wetzlar
URL:https://www.dfg-hessen.de/event/finnischer-film-wetzlar
LOCATION:Stadtuseum Wetzlar\, Lottestr. 8-10\, Wetzlar
CATEGORIES:Kino
END:VEVENT
BEGIN:VEVENT
DTSTART;TZID=Europe/Berlin:20250316T150000
DTEND;TZID=Europe/Berlin:20250316T150000
DTSTAMP:20260423T162219
CREATED:20250311T101108Z
LAST-MODIFIED:20250311T101108Z
UID:8442-1742137200-1742137200@www.dfg-hessen.de
SUMMARY:Uusikuu spielt in Oberaula
DESCRIPTION:Die bekannte Band Uusikuu mit der finnischen Sängerin Laura Ryhänen gibt am Sonntag\, 16. März 25\, um 15 Uhr ein Konzert in der Kulturkirche Oberaula. \nDie finnische Sängerin Laura Ryhänen gründete im Jahr 2006 gemeinsam mit einem Kollegen Uusikku\, zu deutsch Neumond. Ihr Ziel war\, den traditionellen Finntango bekannter zu machen. \nDer Tango gehört schon immer zur populären Musik Finnlands. Aber nicht im Stil des argentinischen Tangos\, der finnische Tango ist eher geprägt durch Melancholie\, große Gefühle\, Drama\, aber auch Liebe\, Leidenschaft und Lebensfreude. Eine wunderbare Musikmischung! Das sechste und neueste Album der mittlerweile als Quartett agierenden Musikband Heißt “Piknik”. In ihrem “Picknickkorb” finden sich diesmal eher witzige. lebensbejahende Titel (schließlich ist Finnland schon seit 7 Jahren das glücklichste Vok der Welt) als Gute-Laune-Musik\, bei der feurigen Tangorhythmen\, gefühlvolle Walzer und finnische Jenkas in den 12 Titeln präsentiert werden. Kommen Sie mit zu einem Konzert\, bei dem Sie sich ganz einfach an einen lauen Sommerabend an einem finnischen See träumen können. \nEintrittskarten erhalten Sie hier:\nIde – Uhren-Optik-Schmuck\, Oberaula\nParkhotel zum Stern\, Oberaula\nwww.ticket-regional.de \nVVK 18\,00 € / TK 22\,00 € \nMehr Informationen zum Konzert in der Kulturkirche finden Sie hier \nUnd hier gibt es auch  noch einen Bericht von HR2 – Hörbar mit einem Podcast mit Uusikku
URL:https://www.dfg-hessen.de/event/uusikuu-spielt-in-oberaula
LOCATION:Kulturkirche\, Birketstr. 16\, Oberaula
CATEGORIES:Konzert
END:VEVENT
BEGIN:VEVENT
DTSTART;TZID=Europe/Berlin:20250331T200000
DTEND;TZID=Europe/Berlin:20250331T200000
DTSTAMP:20260423T162219
CREATED:20250107T201818Z
LAST-MODIFIED:20250107T201818Z
UID:8327-1743451200-1743451200@www.dfg-hessen.de
SUMMARY:A-Capella-Band aus Finnland gastiert in Wiesbaden
DESCRIPTION:Am 31. März 25 kommt die finnische A-Capella-Gruppe CLUB FOR FIVE zu ihrem einzigen Gastspiel in Hessen nach Wiesbaden. Die 5 Musiker\, 2 Frauen und 3 Männer\, begeistern mit ihrem brillanten Lead-Vocals\, technischer Perfektion\, Kreativität und finnischem Humor die Zuhörer. Unverstärkte Auftritte in Kirchen machen jedes Konzert zu einem beosnderen Erlebnis. \nBisher sind von CLUB FOR FIVE 13 Alben erschienen. Dabei reicht ihr Spektrum von traditionellen Chorälen bis hin zu internationalen Popsongs. Songs wie von Dire-Straits “Brother in Arms” oder seltene finnische Stücke zeigen die Vielseitigkeit der Gruppe und schaffen mit ihren einzigartigen\, beeindruckenden Stimmen Abende voller Gänsehautmomente. \nTickets für diesen unvergesslichen Musikabend  und weitere Informationen gibt es hier. \n 
URL:https://www.dfg-hessen.de/event/a-capella-band-aus-finnland-gastiert-in-wiesbaden
LOCATION:Thalhaus\, Nerotal 18\, Wiesbaden
CATEGORIES:Konzert
END:VEVENT
END:VCALENDAR