BEGIN:VCALENDAR
VERSION:2.0
PRODID:-//DFG Hessen e.V. - ECPv6.15.20//NONSGML v1.0//EN
CALSCALE:GREGORIAN
METHOD:PUBLISH
X-WR-CALNAME:DFG Hessen e.V.
X-ORIGINAL-URL:https://www.dfg-hessen.de
X-WR-CALDESC:Veranstaltungen für DFG Hessen e.V.
REFRESH-INTERVAL;VALUE=DURATION:PT1H
X-Robots-Tag:noindex
X-PUBLISHED-TTL:PT1H
BEGIN:VTIMEZONE
TZID:Europe/Berlin
BEGIN:DAYLIGHT
TZOFFSETFROM:+0100
TZOFFSETTO:+0200
TZNAME:CEST
DTSTART:20230326T010000
END:DAYLIGHT
BEGIN:STANDARD
TZOFFSETFROM:+0200
TZOFFSETTO:+0100
TZNAME:CET
DTSTART:20231029T010000
END:STANDARD
BEGIN:DAYLIGHT
TZOFFSETFROM:+0100
TZOFFSETTO:+0200
TZNAME:CEST
DTSTART:20240331T010000
END:DAYLIGHT
BEGIN:STANDARD
TZOFFSETFROM:+0200
TZOFFSETTO:+0100
TZNAME:CET
DTSTART:20241027T010000
END:STANDARD
BEGIN:DAYLIGHT
TZOFFSETFROM:+0100
TZOFFSETTO:+0200
TZNAME:CEST
DTSTART:20250330T010000
END:DAYLIGHT
BEGIN:STANDARD
TZOFFSETFROM:+0200
TZOFFSETTO:+0100
TZNAME:CET
DTSTART:20251026T010000
END:STANDARD
END:VTIMEZONE
BEGIN:VEVENT
DTSTART;TZID=Europe/Berlin:20241109T170000
DTEND;TZID=Europe/Berlin:20241109T170000
DTSTAMP:20260423T221421
CREATED:20241025T150027Z
LAST-MODIFIED:20241025T150027Z
UID:8196-1731171600-1731171600@www.dfg-hessen.de
SUMMARY:Filmfestival in Mainz
DESCRIPTION:Für alle Filmfreunde rund um Wiesbaden/Mainz!: \nBeim Festival des deutschen Kinos in Mainz werden in der Zeit vom 7. bis 17. November 2024 auch mehrere finnische Filme gezeigt! \nHeute läuft ein Film von Kirsi Marie Liimatainen:  “Comrade\, where are you today? – Der Traum der Revolution”. \nMehr zum Film und dem weiteren Programm findet ihr hier. \n  \n 
URL:https://www.dfg-hessen.de/event/filmfestival-in-mainz
LOCATION:Cinemayence\, Schillerstr. 11\, Mainz
CATEGORIES:Kino
END:VEVENT
BEGIN:VEVENT
DTSTART;TZID=Europe/Berlin:20241112T200000
DTEND;TZID=Europe/Berlin:20241112T200000
DTSTAMP:20260423T221421
CREATED:20241025T150451Z
LAST-MODIFIED:20241025T150451Z
UID:8201-1731441600-1731441600@www.dfg-hessen.de
SUMMARY:Filmfestival in Mainz
DESCRIPTION:Für alle Filmfreunde rund um Wiesbaden/Mainz!: \nBeim Festival des deutschen Kinos in Mainz werden in der Zeit vom 7. bis 17. November 2024 auch mehrere finnische Filme gezeigt! \nHeute sind verschiedene finnische Kurzfilme im Programm. \nMehr zum Film und dem weiteren Programm findet ihr hier.
URL:https://www.dfg-hessen.de/event/filmfestival-in-mainz-2
LOCATION:Muschel\, Johann-Joachi\,-Becher-Weg 21\, Mainz
CATEGORIES:Kino
END:VEVENT
BEGIN:VEVENT
DTSTART;TZID=Europe/Berlin:20241124T100000
DTEND;TZID=Europe/Berlin:20241124T150000
DTSTAMP:20260423T221421
CREATED:20240221T171004Z
LAST-MODIFIED:20240221T171004Z
UID:7891-1732442400-1732460400@www.dfg-hessen.de
SUMMARY:Kulturcafé in Wetzlar
DESCRIPTION:Die Bezirksgruppe Gießen/Wetzlar der Deutsch-Finnischen Gesellschaft betreibt an diesem Wochenende das Kulturcafé in der Stadtbibliothek Wetzlar. \nEs gibt wieder Kuchen nach finnischen Rezepten und informationen über Finnland und die DFG. Kommen Sie doch einmal vorbei!
URL:https://www.dfg-hessen.de/event/kulturcafe-in-wetzlar-7
LOCATION:Stadtbibliothek Wetzlar\, Bahnhofstr. 6\, Wetzlar
CATEGORIES:verschiedenes
END:VEVENT
BEGIN:VEVENT
DTSTART;TZID=Europe/Berlin:20241126T190000
DTEND;TZID=Europe/Berlin:20241126T190000
DTSTAMP:20260423T221421
CREATED:20240418T180015Z
LAST-MODIFIED:20241028T173541Z
UID:7977-1732647600-1732647600@www.dfg-hessen.de
SUMMARY:Anne-Mari Kivimäki Ensemble in Biebrich
DESCRIPTION:Das Anne-Mari Kivimäki Ensemble gastiert in Biebrich!\n \nAnne-Mari Kivimäki: Notka-Akkordeon\, Gesang\nSilja Palomäki: Kantele\, Gesang\nJani Snellman: Kontrabass\, Gesang \nIn Kooperation mit der Deutsch-Finnischen Gesellschaft Hessen e.V. tritt in Biebrich das Anne-Mari Kivimäki Ensemble auf.\nAnne-Mari Kivimäki ist eine der interessantesten Künstlerinnen Finnlands. Kivimäki und ihre Band touren seit 1997 sowohl auf heimischen Bühnen als auch in internationalen Konzerthallen – Europa\, Afrika\, USA. \nDie Künstlerin spielt ihren ganz eigenen Musikstil\, den sie auf dem noch in der Sowjetunion produzierten „Notka“-Akkordeon entwickelt hat. Akkordeon\, Kantele\, Kontrabass und Gesang schaffen eine einzigartige Klanglandschaft. \nDas Repertoire basiert auf karelischen Liedern und Liedern\, die von der finnischen Geschichte inspiriert sind. \n 
URL:https://www.dfg-hessen.de/event/anne-mai-livimaeki-ensemble-in-biebrich
LOCATION:Kettelerhaus\, Breslauer Str. 1\, Biebrich
CATEGORIES:Konzert
END:VEVENT
END:VCALENDAR