BEGIN:VCALENDAR
VERSION:2.0
PRODID:-//DFG Hessen e.V. - ECPv6.15.20//NONSGML v1.0//EN
CALSCALE:GREGORIAN
METHOD:PUBLISH
X-WR-CALNAME:DFG Hessen e.V.
X-ORIGINAL-URL:https://www.dfg-hessen.de
X-WR-CALDESC:Veranstaltungen für DFG Hessen e.V.
REFRESH-INTERVAL;VALUE=DURATION:PT1H
X-Robots-Tag:noindex
X-PUBLISHED-TTL:PT1H
BEGIN:VTIMEZONE
TZID:Europe/Berlin
BEGIN:DAYLIGHT
TZOFFSETFROM:+0100
TZOFFSETTO:+0200
TZNAME:CEST
DTSTART:20230326T010000
END:DAYLIGHT
BEGIN:STANDARD
TZOFFSETFROM:+0200
TZOFFSETTO:+0100
TZNAME:CET
DTSTART:20231029T010000
END:STANDARD
BEGIN:DAYLIGHT
TZOFFSETFROM:+0100
TZOFFSETTO:+0200
TZNAME:CEST
DTSTART:20240331T010000
END:DAYLIGHT
BEGIN:STANDARD
TZOFFSETFROM:+0200
TZOFFSETTO:+0100
TZNAME:CET
DTSTART:20241027T010000
END:STANDARD
BEGIN:DAYLIGHT
TZOFFSETFROM:+0100
TZOFFSETTO:+0200
TZNAME:CEST
DTSTART:20250330T010000
END:DAYLIGHT
BEGIN:STANDARD
TZOFFSETFROM:+0200
TZOFFSETTO:+0100
TZNAME:CET
DTSTART:20251026T010000
END:STANDARD
END:VTIMEZONE
BEGIN:VEVENT
DTSTART;TZID=Europe/Berlin:20241005T100000
DTEND;TZID=Europe/Berlin:20241005T150000
DTSTAMP:20260423T234729
CREATED:20240221T170445Z
LAST-MODIFIED:20240221T170445Z
UID:7885-1728122400-1728140400@www.dfg-hessen.de
SUMMARY:Kulturcafé in Wetzlar
DESCRIPTION:Die Bezirksgruppe Gießen/Wetzlar der Deutsch-Finnischen Gesellschaft betreibt an diesem Wochenende das Kulturcafé in der Stadtbibliothek Wetzlar. \nEs gibt wieder Kuchen nach finnischen Rezepten und informationen über Finnland und die DFG. Kommen Sie doch einmal vorbei!
URL:https://www.dfg-hessen.de/event/kulturcafe-in-wetzlar-5
LOCATION:Stadtbibliothek Wetzlar\, Bahnhofstr. 6\, Wetzlar
CATEGORIES:verschiedenes
END:VEVENT
BEGIN:VEVENT
DTSTART;TZID=Europe/Berlin:20241006T100000
DTEND;TZID=Europe/Berlin:20241006T150000
DTSTAMP:20260423T234729
CREATED:20240221T170623Z
LAST-MODIFIED:20240221T170623Z
UID:7887-1728208800-1728226800@www.dfg-hessen.de
SUMMARY:Kulturcafé in Wetzlar
DESCRIPTION:Die Bezirksgruppe Gießen/Wetzlar der Deutsch-Finnischen Gesellschaft betreibt an diesem Wochenende das Kulturcafé in der Stadtbibliothek Wetzlar. \nEs gibt wieder Kuchen nach finnischen Rezepten und informationen über Finnland und die DFG. Kommen Sie doch einmal vorbei!
URL:https://www.dfg-hessen.de/event/kulturcafe-in-wetzlar-6
LOCATION:Stadtbibliothek Wetzlar\, Bahnhofstr. 6\, Wetzlar
CATEGORIES:verschiedenes
END:VEVENT
BEGIN:VEVENT
DTSTART;TZID=Europe/Berlin:20241030T190000
DTEND;TZID=Europe/Berlin:20241030T190000
DTSTAMP:20260423T234729
CREATED:20240318T135125Z
LAST-MODIFIED:20241002T181918Z
UID:7921-1730314800-1730314800@www.dfg-hessen.de
SUMMARY:Vortrag über die Saunakultur in der Stadtbibliothek Wetzlar
DESCRIPTION:Dr. Andreas Viertelhausen\nAuf Einladung der Deutsch-Finnischen Gesellschaft (DFG)/Bezirksgruppe Wetzlar hält der Bürgermeister der Stadt Wetzlar\, Dr. Andreas Viertelhausen\, einen Vortrag über die Saunakultur in der Stadtbibliothek Wetzlar. \nIn 90 Minuten beleuchtet er zunächst die Geschichte des Saunabadens beginnend beim Steinschwitzbad und endend bei aktuellen Saunaformen.\nErgänzt wird dies durch aktuelle statistische Zahlen. Danach berichtet Dr. Viertelhausen über den Ablauf des Saunabadens\, die Auswirkungen auf den menschlichen Körper und die Regeln für einen angenehmen Saunagang. \nDie DFG serviert das finnische Hausbier Kotikalja und finnische Roggenchips. \nAlle Finnland- und Saunafans sind herzlich zu diesem Saunakultur-Abend eingeladen: \nMittwoch\, 30. Oktober 2024\, um 19 Uhr \nStadtbibliothek Wetzlar\, Bahnhofstr. 6 \n  \nDie Sauna - Kultur und Geschichte-4
URL:https://www.dfg-hessen.de/event/vortrag-ueber-die-saunakultur-in-der-stadtbibliothek-wetzlar
LOCATION:Stadtbibliothek Wetzlar\, Bahnhofstr. 6\, Wetzlar
CATEGORIES:verschiedenes
END:VEVENT
END:VCALENDAR