BEGIN:VCALENDAR
VERSION:2.0
PRODID:-//DFG Hessen e.V. - ECPv6.15.20//NONSGML v1.0//EN
CALSCALE:GREGORIAN
METHOD:PUBLISH
X-ORIGINAL-URL:https://www.dfg-hessen.de
X-WR-CALDESC:Veranstaltungen für DFG Hessen e.V.
REFRESH-INTERVAL;VALUE=DURATION:PT1H
X-Robots-Tag:noindex
X-PUBLISHED-TTL:PT1H
BEGIN:VTIMEZONE
TZID:Europe/Berlin
BEGIN:DAYLIGHT
TZOFFSETFROM:+0100
TZOFFSETTO:+0200
TZNAME:CEST
DTSTART:20230326T010000
END:DAYLIGHT
BEGIN:STANDARD
TZOFFSETFROM:+0200
TZOFFSETTO:+0100
TZNAME:CET
DTSTART:20231029T010000
END:STANDARD
BEGIN:DAYLIGHT
TZOFFSETFROM:+0100
TZOFFSETTO:+0200
TZNAME:CEST
DTSTART:20240331T010000
END:DAYLIGHT
BEGIN:STANDARD
TZOFFSETFROM:+0200
TZOFFSETTO:+0100
TZNAME:CET
DTSTART:20241027T010000
END:STANDARD
BEGIN:DAYLIGHT
TZOFFSETFROM:+0100
TZOFFSETTO:+0200
TZNAME:CEST
DTSTART:20250330T010000
END:DAYLIGHT
BEGIN:STANDARD
TZOFFSETFROM:+0200
TZOFFSETTO:+0100
TZNAME:CET
DTSTART:20251026T010000
END:STANDARD
END:VTIMEZONE
BEGIN:VEVENT
DTSTART;TZID=Europe/Berlin:20240702T080000
DTEND;TZID=Europe/Berlin:20240702T170000
DTSTAMP:20260424T045207
CREATED:20240702T083100Z
LAST-MODIFIED:20240702T083226Z
UID:8049-1719907200-1719939600@www.dfg-hessen.de
SUMMARY:Klänge von Sibelius und Klami im Staatstheater Mainz
DESCRIPTION:Im Staatstheater Mainz erklingt zum Abschluss der laufenden Saison nordische Musik: \n9. Sinfoniekonzert\nWerke von Uuno Klami\, Edvard Grieg und Jean Sibelius \n\n\nJean Sibelius\nSinfonie Nr. 3 C-Dur op. 52 \nEdvard Grieg\nKonzert für Klavier und Orchester\na-Moll op. 16. \nUuno Klami\nKalevala-Suite op. 23.\nFünf Tonbilder für großes Orchester \n\nFreuen Sie sich auf die fünfsätzige Kalevala-Suite des finnischen Komponisten Uuno Klami\, der mit seiner farbenreich orchestrierten Musik auch ein tiefes Verständnis für Traditionen und Legendes seines Landes zum Ausdruck bringt. \nMit der Sinfonie Nr. 3 kommt die als “klassische” Sinfonie des  weltweit international bekannten finnischen Komponisten Jean Sibelius zum Abschluss der Konzertreihe zur Aufführung. \nSpielort und Zeit:\nStaatstheater Mainz\, Großer Saal \nFreitag\, 12. Juli 24 und Samstag\, 13. Juli 24. \nBeginn ist jeweils um 19 Uhr. Einlass ist 75 Minuten vor Konzertbeginn. \nWeitere Informationen gibt es beim Staatstheater Mainz. \n 
URL:https://www.dfg-hessen.de/event/klaenge-von-sibelius-und-klami-im-staatstheater-mainz
CATEGORIES:Konzert
END:VEVENT
BEGIN:VEVENT
DTSTART;TZID=Europe/Berlin:20240714T170000
DTEND;TZID=Europe/Berlin:20240714T170000
DTSTAMP:20260424T045207
CREATED:20240713T145119Z
LAST-MODIFIED:20240713T145119Z
UID:8057-1720976400-1720976400@www.dfg-hessen.de
SUMMARY:Sibelius beim Semesterabschlusskonzert in Giessen
DESCRIPTION:Unter der Leitung von Universitätsmusikdirektor Stefan Ottersbach haben die Musikerinnen und Musiker Stücke der finnischen Komponisten Jean Sibelius und  Arvo Pärt sowie des Russen Alexander Glasunow einstudiert. \nDas Semesterabschlusskonzert findet am Sonntag\, 14. Juli 2024\, in der Kongresshalle Gießen statt.  \n„Die Werke der  Komponisten sind unter anderem verbunden durch die geographische Nähe der Entstehungsorte Helsinki\, Tallin und St. Petersburg“\, erläutert Ottersbach. „Und alle drei Kompositionen beziehen sich deutlich auf musikalische Einflüsse anderer Regionen\, Epochen und Komponisten.“ Das Orchester spielt die Karelia-Suite von Jean Sibelius\, die Sinfonie Nr. 3 von Arvo Pärt und die Sinfonie Nr. 5 von Alexander Glasunow. \nSo bedient sich Jean Sibelius motivisch der Volksmusik der Region Karelien\, die heute zum größten Anteil zu Russland gehört. Zur Entstehungszeit der Komposition war ganz Karelien Teil des Großfürstentums Finnland\, das wiederum unter Russischer Herrschaft stand. \nIn Arvo Pärts Werk nimmt die 3. Sinfonie eine Schlüsselstellung ein. Sie bildet ein Scharnier zwischen seinen frühen Werken\, die noch sehr geprägt waren vom Einfluss Dmitri Schostakowitschs\, und seinem seit ca. 1980 vorherrschenden Tintinnabuli-Stil mit der extremen Reduktion der musikalischen Mittel. In dieser 3. Sinfonie\, die er 1973 fertigstellte\, bedient sich Pärt erstmals in erheblichem Ausmaß der Modi\, Satztechniken und Registerbildungen der Renaissance-Musik.  \n \nDie Karten für das Konzert in der Kongresshalle Gießen sind über das Haus der Karten (Kreuzplatz 6\, Gießen) oder online über den Webshop des Stadttheaters erhältlich. Zuzüglich Vorverkaufsgebühr kosten sie 14 Euro und ermäßigt für Schülerinnen und Schüler sowie Studierende 7 Euro. Restkarten sind auch an der Abendkasse zu erwerben.  \n 
URL:https://www.dfg-hessen.de/event/sibelius-beim-semesterabschlusskonzert-in-giessen
LOCATION:Kongresshalle Giessen\, Südanlage 3\, Giessen
CATEGORIES:Konzert
END:VEVENT
BEGIN:VEVENT
DTSTART;TZID=Europe/Berlin:20240728T193000
DTEND;TZID=Europe/Berlin:20240728T193000
DTSTAMP:20260424T045207
CREATED:20240626T134406Z
LAST-MODIFIED:20240626T134406Z
UID:8041-1722195000-1722195000@www.dfg-hessen.de
SUMMARY:Kaurismäki-Film "Fallende Blätter" im Freiluftkino Frankfurt
DESCRIPTION:Das Freiluftkino Frankfurt zeigt in diesem Jahr den finnischen Film “Fallende Blätter” (Kuolleet lehdet) von Aki Kaurismäki im Original mit deutschen Untertiteln. \nSonntag\, 28. Juli 2024\, Einlass: ab 19:30 Uhr (Filmbeginn bei ausreichender Dunkelheit). Ort: Altes Polizeipräsidium in Frankfurt\, Eingang in der Ludwigstr. 18! \nKuolleet lehdet; Regie: Aki Kaurismäki; FIN 2023; 81 Min.; FSK: ab 12; OmdU (Finnisch) \nFALLENDE BLÄTTER erzählt von zwei einsamen Menschen (Alma Pöysti und Jussi Vatanen)\, die zufällig im nächtlichen Helsinki aufeinander treffen. Beide sind auf der Suche nach der ersten\, einzigen und endgültigen Liebe ihres Lebens. Der Weg zu diesem ehrenwerten Ziel wird erschwert durch die Alkoholsucht des Mannes\, verlorene Telefonnummern\, die Unkenntnis des Namens und der Adresse des jeweils anderen – und nicht zuletzt durch die allgemeine Tendenz des Lebens\, denjenigen\, die ihr Glück suchen\, Steine in den Weg zu legen. \nDiese sanfte Tragikomödie kann als “vierter Teil” von Aki Kaurismäkis Arbeitertrilogie (Schatten im Paradies\, Ariel und Das Mädchen aus der Streichholzfabrik) angesehen werden. \nWeitere Informationen unter: \nhttps://www.freiluftkinofrankfurt.de/filme-2024
URL:https://www.dfg-hessen.de/event/kaurismaeki-film-fallende-blaetter-im-freiluftkino-frankfurt
LOCATION:Freiluftkino\, Ludwigstr. 18\, Frankurt
CATEGORIES:Kino
END:VEVENT
END:VCALENDAR