BEGIN:VCALENDAR
VERSION:2.0
PRODID:-//DFG Hessen e.V. - ECPv6.15.20//NONSGML v1.0//EN
CALSCALE:GREGORIAN
METHOD:PUBLISH
X-ORIGINAL-URL:https://www.dfg-hessen.de
X-WR-CALDESC:Veranstaltungen für DFG Hessen e.V.
REFRESH-INTERVAL;VALUE=DURATION:PT1H
X-Robots-Tag:noindex
X-PUBLISHED-TTL:PT1H
BEGIN:VTIMEZONE
TZID:Europe/Berlin
BEGIN:DAYLIGHT
TZOFFSETFROM:+0100
TZOFFSETTO:+0200
TZNAME:CEST
DTSTART:20230326T010000
END:DAYLIGHT
BEGIN:STANDARD
TZOFFSETFROM:+0200
TZOFFSETTO:+0100
TZNAME:CET
DTSTART:20231029T010000
END:STANDARD
BEGIN:DAYLIGHT
TZOFFSETFROM:+0100
TZOFFSETTO:+0200
TZNAME:CEST
DTSTART:20240331T010000
END:DAYLIGHT
BEGIN:STANDARD
TZOFFSETFROM:+0200
TZOFFSETTO:+0100
TZNAME:CET
DTSTART:20241027T010000
END:STANDARD
BEGIN:DAYLIGHT
TZOFFSETFROM:+0100
TZOFFSETTO:+0200
TZNAME:CEST
DTSTART:20250330T010000
END:DAYLIGHT
BEGIN:STANDARD
TZOFFSETFROM:+0200
TZOFFSETTO:+0100
TZNAME:CET
DTSTART:20251026T010000
END:STANDARD
END:VTIMEZONE
BEGIN:VEVENT
DTSTART;TZID=Europe/Berlin:20240506T190000
DTEND;TZID=Europe/Berlin:20240506T190000
DTSTAMP:20260424T081013
CREATED:20240411T134705Z
LAST-MODIFIED:20240411T134705Z
UID:7960-1715022000-1715022000@www.dfg-hessen.de
SUMMARY:Finnische Band Tjango! gastiert in Vöhl
DESCRIPTION:Die DFG Hessen e.V. und der Förderkreis Synagoge in Vöhl e.V. präsentieren: \nTjango!\nMontag\, 6. Mai 2024 19:00 Uhr \nehem. Synagoge in Vöhl\, Mittelgasse 9\, 34516 Vöhl \nEintritt: 20/18/12 €\, an der Abendkasse + 2 €.Kartenbestellung: Frau Anna Evers unter info@synagoge-voehl.de oder 05635-1022. Vorab-Überweisung an: Förderkreis Synagoge in Vöhl e.V.; Sparkasse Waldeck-Frankenberg; IBAN: DE48523500050007051501; Überweisungszweck: Konzert mit … am … Die Karten liegen dann an der Abendkasse für Sie bereit. Falls Sie nicht vorab überweisen\, zahlen Sie den Abendkassenpreis (+2€). \n  \n(Tarmo Anttila) Die vier Musiker von Tjango!\nDjango Reinhardt und Tango standen Pate für den Namen der Band Tjango! – ähnlich schräghumorig verteilt der Vierer aus Helsinki diverse Zutaten wie ein Pizzabäcker auf ihre „Nordic World Music“: virtuosen Gipsy Swing\, melodischen Jazz\, halsbrecherischen Bluegrass\, melancholische Bossa nova und Tango: Wobei Tjango! sowohl die finnische wie auch die argentinische Variante servieren. \nSeit fast 15 Jahren besteht das vielbeachtete Quartett nahezu unverändert\, auch die Mitglieder haben Karriere gemacht: Tero Hyväluoma ist einer der Violinen-Stars des nordischen Folk\, Juha Savela spielt mit diversen Größen aus Jazz und Filmmusik. Antti Leinonen ist die Konstante und treibende Kraft bei Tjango!\, mit Olli Rantala haben sie einen neuen Bassisten an Bord. \nAuch eine neue CD haben sie dabei – die ist reifer als die früheren: Die Band erweist sich als bestens eingespielte Einheit\, absolut schlüssig und stimmig klingt ihre Melange. Landen können sie damit in Jazzclubs\, auf Folkfestivals und auf Kleinkunstbühnen – fehl am Platz ist dieser Finnen-Vierer nirgends.
URL:https://www.dfg-hessen.de/event/tjango-gastiert-in-voehl
LOCATION:ehe. Synagoge\, Mittelgasse 9\, Vöhl
CATEGORIES:Konzert
END:VEVENT
BEGIN:VEVENT
DTSTART;TZID=Europe/Berlin:20240525T100000
DTEND;TZID=Europe/Berlin:20240525T170000
DTSTAMP:20260424T081013
CREATED:20231220T152923Z
LAST-MODIFIED:20240524T150546Z
UID:7756-1716631200-1716656400@www.dfg-hessen.de
SUMMARY:Kulturcafé in Wetzlar fällt aus
DESCRIPTION:Achtung! Das Kulturcafé fällt an diesem Wochenende aus!!\nDas Kulturcafé in der Stadtbibliothek Wetzlar wird an diesem Wochenende wieder von der Deutsch-Finnischen Gesellschaft betrieben. \nDie Bezirksgruppe Gießen/Wetzlar bietet Kaffee und Kuchen nach finnischen Rezepten an und freut sich auf Ihren Besuch!
URL:https://www.dfg-hessen.de/event/kulturcafe-in-wetzlar-3
LOCATION:Stadtbibliothek Wetzlar\, Bahnhofstr. 6\, Wetzlar
CATEGORIES:verschiedenes
END:VEVENT
END:VCALENDAR