BEGIN:VCALENDAR
VERSION:2.0
PRODID:-//DFG Hessen e.V. - ECPv6.15.20//NONSGML v1.0//EN
CALSCALE:GREGORIAN
METHOD:PUBLISH
X-WR-CALNAME:DFG Hessen e.V.
X-ORIGINAL-URL:https://www.dfg-hessen.de
X-WR-CALDESC:Veranstaltungen für DFG Hessen e.V.
REFRESH-INTERVAL;VALUE=DURATION:PT1H
X-Robots-Tag:noindex
X-PUBLISHED-TTL:PT1H
BEGIN:VTIMEZONE
TZID:Europe/Berlin
BEGIN:DAYLIGHT
TZOFFSETFROM:+0100
TZOFFSETTO:+0200
TZNAME:CEST
DTSTART:20230326T010000
END:DAYLIGHT
BEGIN:STANDARD
TZOFFSETFROM:+0200
TZOFFSETTO:+0100
TZNAME:CET
DTSTART:20231029T010000
END:STANDARD
BEGIN:DAYLIGHT
TZOFFSETFROM:+0100
TZOFFSETTO:+0200
TZNAME:CEST
DTSTART:20240331T010000
END:DAYLIGHT
BEGIN:STANDARD
TZOFFSETFROM:+0200
TZOFFSETTO:+0100
TZNAME:CET
DTSTART:20241027T010000
END:STANDARD
BEGIN:DAYLIGHT
TZOFFSETFROM:+0100
TZOFFSETTO:+0200
TZNAME:CEST
DTSTART:20250330T010000
END:DAYLIGHT
BEGIN:STANDARD
TZOFFSETFROM:+0200
TZOFFSETTO:+0100
TZNAME:CET
DTSTART:20251026T010000
END:STANDARD
END:VTIMEZONE
BEGIN:VEVENT
DTSTART;TZID=Europe/Berlin:20240215T200000
DTEND;TZID=Europe/Berlin:20240215T203000
DTSTAMP:20260424T124836
CREATED:20240110T133317Z
LAST-MODIFIED:20240110T133317Z
UID:7790-1708027200-1708029000@www.dfg-hessen.de
SUMMARY:Bändi und Uusikuu spielen gemeinsam in Frankfurt
DESCRIPTION:Zu ihrer neuen Musikreihe BÄNDI meets… schreibt die Musikgruppe Folgendes: \nwir wollen Musiker\, Bands und andere Künstler einladen\, die wir gut finden. Nach dem Konzert mit Sväng in der Alten Oper Frankfurt merkten wir\, dass es einfach Spass macht etwas gemeinsam zu entwickeln und dem Publikum relativ spontan vorzutragen. Für das Publikum wiederum ist es eine besondere Athmosphäre\, wenn zwei Bands zusammen spielen\, die das vielleicht auch nur einmal im Leben machen. Dabei geht es immer um Begegnung und den Moment und auch darum ganz neue Spielarten in der Musik zu finden. \nBÄNDI meets…. an diesem besonderen Abend geht es um musikalische Begegnungen mit anderen Musikern und Musik-Stilen\, denn nach zwei Sets mündet das Konzert in ein noch nie gehörtes\, einmaliges Zusammenspiel sämtlicher Musiker. \nBÄNDI\, das preisgekrönte Finnische Tango Ensemble\, startet die neue Musikreihe in Frankfurt in Zusammenarbeit mit der Fabrik gemeinsam mit der Band Uusiku im Februar in Frankfurt. \nAls ersten Act treffen BÄNDI an einem Finnischen Abend auf die bekannte Tango\, Humppa\, Waltzi Band Uusikuu mit ihrem Vintage Sound of Finland mit der Sängerin Laura Ryhänen. \n(Bernadette Fink) Bändi und Uusikuu\nLine up BÄNDI: Kristina Debelius (voc\, p)\, Tobias Frisch (voc\, viola)\, Martin Lejeune (pedal-steel-git)\, Thomas Salzmann (dr\, perc)\, Markus Wach (db). www.bändi.com \nLine up Uusikuu: Laura Ryhänen (voc)\, Mikko Kuisma (viola\, voc) \,Norbert Bremes (Acc )\, James Geier (git) www.uusikuu.com \nMehr Infos zur Bändi gibt es auf www.bändi.com \n 
URL:https://www.dfg-hessen.de/event/baendi-und-uusikuu-spielen-gemeinsam-in-frankfurt
LOCATION:Fabrik außer Haus n der Alten Seilerei\, Offenbacher Landstr. 190\, Frankfurt\, 60599
CATEGORIES:Konzert
END:VEVENT
END:VCALENDAR