BEGIN:VCALENDAR
VERSION:2.0
PRODID:-//DFG Hessen e.V. - ECPv6.15.20//NONSGML v1.0//EN
CALSCALE:GREGORIAN
METHOD:PUBLISH
X-WR-CALNAME:DFG Hessen e.V.
X-ORIGINAL-URL:https://www.dfg-hessen.de
X-WR-CALDESC:Veranstaltungen für DFG Hessen e.V.
REFRESH-INTERVAL;VALUE=DURATION:PT1H
X-Robots-Tag:noindex
X-PUBLISHED-TTL:PT1H
BEGIN:VTIMEZONE
TZID:Europe/Berlin
BEGIN:DAYLIGHT
TZOFFSETFROM:+0100
TZOFFSETTO:+0200
TZNAME:CEST
DTSTART:20220327T010000
END:DAYLIGHT
BEGIN:STANDARD
TZOFFSETFROM:+0200
TZOFFSETTO:+0100
TZNAME:CET
DTSTART:20221030T010000
END:STANDARD
BEGIN:DAYLIGHT
TZOFFSETFROM:+0100
TZOFFSETTO:+0200
TZNAME:CEST
DTSTART:20230326T010000
END:DAYLIGHT
BEGIN:STANDARD
TZOFFSETFROM:+0200
TZOFFSETTO:+0100
TZNAME:CET
DTSTART:20231029T010000
END:STANDARD
BEGIN:DAYLIGHT
TZOFFSETFROM:+0100
TZOFFSETTO:+0200
TZNAME:CEST
DTSTART:20240331T010000
END:DAYLIGHT
BEGIN:STANDARD
TZOFFSETFROM:+0200
TZOFFSETTO:+0100
TZNAME:CET
DTSTART:20241027T010000
END:STANDARD
END:VTIMEZONE
BEGIN:VEVENT
DTSTART;TZID=Europe/Berlin:20231012T200000
DTEND;TZID=Europe/Berlin:20231012T200000
DTSTAMP:20260424T191454
CREATED:20230827T100304Z
LAST-MODIFIED:20230827T100317Z
UID:7492-1697140800-1697140800@www.dfg-hessen.de
SUMMARY:Micke Björklof und Blue Stripe in Eppstein
DESCRIPTION:Eine der besten Blues-Rockbands Nordeuropas kommt zu einem Konzert nach Eppstein: Die finnische Band Micke Björkhof und Blue Stripe \nMicke Björklof & Blue Strip – das sind Lefty Leppänen an der elektrischen und National Steel-Gitarre sowie Vocals\, Teemu Vuorela (Schlagzeug)\, Seppo Nuolikoski (Bass und Vocals)\, Tim Roiko-Jokela (Percussion und MalletKAT) sowie der Namensgeber und Leadsänger Micke Björklöf (Harmonica und Gitarre). \nWeitere Informationen zur Location und dem Konzert gibt es hier
URL:https://www.dfg-hessen.de/event/micke-bjoerklof-und-blue-stripe-in-eppstein
LOCATION:Wunderbar Weite Welt\, Am Stadtbahnhof 1\, Eppstein\, 65817
CATEGORIES:Konzert
END:VEVENT
END:VCALENDAR