BEGIN:VCALENDAR
VERSION:2.0
PRODID:-//DFG Hessen e.V. - ECPv6.15.20//NONSGML v1.0//EN
CALSCALE:GREGORIAN
METHOD:PUBLISH
X-ORIGINAL-URL:https://www.dfg-hessen.de
X-WR-CALDESC:Veranstaltungen für DFG Hessen e.V.
REFRESH-INTERVAL;VALUE=DURATION:PT1H
X-Robots-Tag:noindex
X-PUBLISHED-TTL:PT1H
BEGIN:VTIMEZONE
TZID:Europe/Berlin
BEGIN:DAYLIGHT
TZOFFSETFROM:+0100
TZOFFSETTO:+0200
TZNAME:CEST
DTSTART:20220327T010000
END:DAYLIGHT
BEGIN:STANDARD
TZOFFSETFROM:+0200
TZOFFSETTO:+0100
TZNAME:CET
DTSTART:20221030T010000
END:STANDARD
BEGIN:DAYLIGHT
TZOFFSETFROM:+0100
TZOFFSETTO:+0200
TZNAME:CEST
DTSTART:20230326T010000
END:DAYLIGHT
BEGIN:STANDARD
TZOFFSETFROM:+0200
TZOFFSETTO:+0100
TZNAME:CET
DTSTART:20231029T010000
END:STANDARD
BEGIN:DAYLIGHT
TZOFFSETFROM:+0100
TZOFFSETTO:+0200
TZNAME:CEST
DTSTART:20240331T010000
END:DAYLIGHT
BEGIN:STANDARD
TZOFFSETFROM:+0200
TZOFFSETTO:+0100
TZNAME:CET
DTSTART:20241027T010000
END:STANDARD
END:VTIMEZONE
BEGIN:VEVENT
DTSTART;TZID=Europe/Berlin:20230304T100000
DTEND;TZID=Europe/Berlin:20230305T150000
DTSTAMP:20260425T054557
CREATED:20221218T193610Z
LAST-MODIFIED:20221218T193610Z
UID:6852-1677924000-1678028400@www.dfg-hessen.de
SUMMARY:DFG getreibt das Café in der Stadtbibliothek Wetzlar
DESCRIPTION:Dieses Wochenende steht das Kulturcafé in der Stadtbibliothek Wetzlar ganz im Zeichen der Deutsch-Finnischen Gesellschaft. Die Bezirksgruppe Gießen/Wetzlar betreut das Café und serviert  Gebäck aus Finnland. \nHaben Sie schon mal die köstlichen finnischen Zimtschnecken probiert? Oder möchten Sie mehr über Finnland oder die Deutsch-Finnische Gesellschaft erfahren? Vielleicht haben Sie auch Interesse daran\, einen Jugendlichen aus Finnland im Sommer für 4 Wochen aufzunehmen? Hier gibt es jede Menge Informationen! \nKommen Sie vorbei! Wir sind für Sie da: \nam Samstg\, 4.März 2022\,von 10 Uhr bis 15 Uhr \nam Sonntag\, 5.März 2022\, von 10 Uhr bis 15 Uhr
URL:https://www.dfg-hessen.de/event/dfg-getreibt-das-cafe-in-der-stadtbibliothek-wetzlar
LOCATION:Stadtbibliothek Wetzlar\, Bahnhofstr. 6\, Wetzlar
CATEGORIES:verschiedenes
END:VEVENT
BEGIN:VEVENT
DTSTART;TZID=Europe/Berlin:20230306T183000
DTEND;TZID=Europe/Berlin:20230306T183000
DTSTAMP:20260425T054557
CREATED:20230123T110426Z
LAST-MODIFIED:20230123T110426Z
UID:6983-1678127400-1678127400@www.dfg-hessen.de
SUMMARY:Stammtisch in Wiesbaden
DESCRIPTION:Die Finnlandfreunde aus Wiesbaden und Umgebung treffen sich zum Stammtisch im Restaurant Schützenhof
URL:https://www.dfg-hessen.de/event/stammtisch-in-wiesbaden-31
LOCATION:Gasthaus Schützenhof\, Schlosspark 45\, Wiesbaden-Biebrich
CATEGORIES:Stammtisch
END:VEVENT
BEGIN:VEVENT
DTSTART;TZID=Europe/Berlin:20230312T110000
DTEND;TZID=Europe/Berlin:20230312T110000
DTSTAMP:20260425T054557
CREATED:20230212T131603Z
LAST-MODIFIED:20230212T131603Z
UID:7058-1678618800-1678618800@www.dfg-hessen.de
SUMMARY:Master Cheng in Pohjanjoki im Kino Wiesbaden
DESCRIPTION:Im Murnau Filmtheater läuft am  Sonntag\, 12. März 2023\, um 11 Uhr und um 17 Uhr der Kinofilm  „Master Cheng in Pohjanjoki“ in der deutschen Fassung. Im Anschluss gibt es ein passendes Menü. Mehr über die Veranstaltung finden Sie hier \nDarum geht es im Film: \nAuf der Suche nach einem alten finnischen Freund reist der chinesische Koch Cheng in ein abgelegenes Dorf in Lappland. Bei der Ankunft scheint niemand im Dorf seinen Freund zu kennen\, aber die lokale Cafébesitzerin Sirkka bietet ihm eine Unterkunft an. Im Gegenzug hilft Cheng ihr in der Küche\, und bald werden die Einheimischen mit den Köstlichkeiten der chinesischen Küche überrascht. Cheng findet trotz kultureller Unterschiede schnell Anerkennung und neue Freunde unter den Finnen. Als sein Touristenvisum abläuft\, schmieden die Dorfbewohner einen Plan\, der ihm helfen soll zu bleiben. \n \n 
URL:https://www.dfg-hessen.de/event/master-cheng-in-pohjanjoki-im-kino-wiesbaden
LOCATION:Murnau Filmtheater Wiesbaden\, Wiesbaden
CATEGORIES:Kino
END:VEVENT
END:VCALENDAR